BEGIN:VCALENDAR
VERSION:2.0
PRODID:-//ChamberMaster//Event Calendar 2.0//EN
METHOD:PUBLISH
X-PUBLISHED-TTL:P3D
REFRESH-INTERVAL:P3D
CALSCALE:GREGORIAN
BEGIN:VEVENT
DTSTART:20160703T180000Z
DTEND:20160703T200000Z
X-MICROSOFT-CDO-ALLDAYEVENT:FALSE
SUMMARY:Eternal Summer Surf Camp
DESCRIPTION:Bring the kids out for a FREE surfing experience. Kids will hear a short message about God and then will learn how to surf. All surfboards are provided. Dates are June 26\, July 3\, July 10\, July 17\, July 24 and July 31.
X-ALT-DESC;FMTTYPE=text/html:Bring the kids out for a FREE surfing experience. Kids will hear a short message about God and then will learn how to surf. All surfboards are provided. Dates are June 26\, July 3\, July 10\, July 17\, July 24 and July 31.
LOCATION:The Beach at White Avenue - 8605 Gulf Drive Holmes Beach(Parking at Cross Point Church).
UID:e.2475.7743
SEQUENCE:3
DTSTAMP:20260420T054500Z
URL:https://business.manateechamber.com/events/details/eternal-summer-surf-camp-07-03-2016-7743
END:VEVENT

END:VCALENDAR
