BEGIN:VCALENDAR
VERSION:2.0
PRODID:-//ChamberMaster//Event Calendar 2.0//EN
METHOD:PUBLISH
X-PUBLISHED-TTL:P3D
REFRESH-INTERVAL:P3D
CALSCALE:GREGORIAN
BEGIN:VEVENT
DTSTART:20220823T130000Z
DTEND:20220823T200000Z
X-MICROSOFT-CDO-ALLDAYEVENT:FALSE
SUMMARY:EXCEL - LEVEL 4 - HANDS ON CLASSES at SCF
DESCRIPTION:EXCEL - LEVEL 4 - HANDS ON CLASSES at SCF\n\nThis class is for the more advanced user of Excel. Topics include: importing and exporting data\; creating pivot tables and pivot charts\, slicers\, timelines\; creating\, editing and using macros\; summarizing data in a table\, subtotaling\, advanced filtering\, data validation\; data analysis\; goal seek\, solver\, scenarios\, data tables\, and more.\n\n\n\nREQUIREMENTS: Must have taken Excel Level 2 to register for this class.\n\n9am - 4pm\n\nFee: $129 per class\n\nRegister Here.
X-ALT-DESC;FMTTYPE=text/html:<p>EXCEL - LEVEL 4 - HANDS ON CLASSES at SCF</p>\n\n<p>This class is for the more advanced user of Excel. Topics include: importing and exporting data\; creating pivot tables and pivot charts\, slicers\, timelines\; creating\, editing and using macros\; summarizing data in a table\, subtotaling\, advanced filtering\, data validation\; data analysis\; goal seek\, solver\, scenarios\, data tables\, and more.<br />\n<br />\n<strong>REQUIREMENTS:</strong>&nbsp\;Must have taken Excel Level 2 to register for this class.</p>\n\n<p>9am - 4pm</p>\n\n<p>Fee: $129 per class</p>\n\n<p><a href="https://scf.augusoft.net/index.cfm?method=ClassInfo.ClassInformation&amp\;int_class_id=14656&amp\;int_category_id=18&amp\;int_sub_category_id=101&amp\;int_catalog_id=0" style="box-sizing: inherit\; background-color: transparent\; color: rgb(1\, 1\, 4)\; text-decoration-line: none\; outline: none\;" target="_blank">Register Here.</a></p>\n
LOCATION:SCF Lakewood Ranch (CIT)\, 7131 Professional Parkway East\, Sarasota\, FL 34240
UID:e.2475.35698
SEQUENCE:3
DTSTAMP:20260419T193657Z
URL:https://business.manateechamber.com/events/details/excel-level-4-hands-on-classes-at-scf-08-23-2022-35698
END:VEVENT

END:VCALENDAR
