BEGIN:VCALENDAR
VERSION:2.0
PRODID:-//ChamberMaster//Event Calendar 2.0//EN
METHOD:PUBLISH
X-PUBLISHED-TTL:P3D
REFRESH-INTERVAL:P3D
CALSCALE:GREGORIAN
BEGIN:VEVENT
DTSTART:20191123T180000Z
DTEND:20191123T190000Z
X-MICROSOFT-CDO-ALLDAYEVENT:FALSE
SUMMARY:Free Teen Driver Car Care Clinic
DESCRIPTION:Free for teens\, learn how to change a tire\, check fluids\, know when brakes are bad\, learn warning lights on dash and much more valuable information so your new driver will feel safe and confident behind the wheel. \n\nClass is limited to 15 so everyone can participate\, safety glasses and gloves will be provided. Please call 941-746-0220 to reservice a spot.
X-ALT-DESC;FMTTYPE=text/html:Free for teens\, learn how to change a tire\, check fluids\, know when brakes are bad\, learn warning lights on dash and much more valuable information so your new driver will feel safe and confident behind the wheel.&nbsp\;<br />\nClass is limited to 15 so everyone can participate\, safety glasses and gloves will be provided. Please call 941-746-0220 to reservice a spot.&nbsp\;
LOCATION:2109 9th Street W Bradenton\, FL 34205
UID:e.2475.27297
SEQUENCE:3
DTSTAMP:20260420T093345Z
URL:https://business.manateechamber.com/events/details/free-teen-driver-car-care-clinic-27297
END:VEVENT

END:VCALENDAR
