BEGIN:VCALENDAR
VERSION:2.0
PRODID:-//ChamberMaster//Event Calendar 2.0//EN
METHOD:PUBLISH
X-PUBLISHED-TTL:P3D
REFRESH-INTERVAL:P3D
CALSCALE:GREGORIAN
BEGIN:VEVENT
DTSTART:20220526T153000Z
DTEND:20220526T173000Z
X-MICROSOFT-CDO-ALLDAYEVENT:FALSE
SUMMARY:Freedom Village - Life Care Benefits Luncheon
DESCRIPTION:Learn about the benefits of senior Life Care\, including independent living\, assisted living\, memory care and additional services provided at Freedom Village of Bradenton.\n\nSpace for this informative free luncheon is limited and RSVPs are required.\n\nPlease call 941-798-8122.\n\nFreedom Village of Bradenton Freedom Village of Bradenton was recently recognized by U.S. News & World Report as a 2022-23 Best Senior Living Community by achieving the highest possible rating for Independent Living in a national performance assessment.\n\nThe luncheon will be held on its lush 34-acre campus located at 6410 21st Ave. W. in West Bradenton adjacent to Blake Medical Hospital.
X-ALT-DESC;FMTTYPE=text/html:Learn about the benefits of senior Life Care\, including independent living\, assisted living\, memory care and additional services provided at Freedom Village of Bradenton.<br />\nSpace for this informative free luncheon is limited and RSVPs are required.<br />\nPlease call 941-798-8122.<br />\nFreedom Village of Bradenton Freedom Village of Bradenton was recently recognized by U.S. News &amp\; World Report as a 2022-23 Best Senior Living Community by achieving the highest possible rating for Independent Living in a national performance assessment.<br />\nThe luncheon will be held on its lush 34-acre campus located at 6410 21st Ave. W. in West Bradenton adjacent to Blake Medical Hospital.
LOCATION:6410 21st Ave. W. in West Bradenton
UID:e.2475.35444
SEQUENCE:3
DTSTAMP:20260422T190602Z
URL:https://business.manateechamber.com/events/details/freedom-village-life-care-benefits-luncheon-35444
END:VEVENT

END:VCALENDAR
