BEGIN:VCALENDAR
VERSION:2.0
PRODID:-//ChamberMaster//Event Calendar 2.0//EN
METHOD:PUBLISH
X-PUBLISHED-TTL:P3D
REFRESH-INTERVAL:P3D
CALSCALE:GREGORIAN
BEGIN:VEVENT
DTSTART:20220827T000000Z
DTEND:20220827T020000Z
X-MICROSOFT-CDO-ALLDAYEVENT:FALSE
SUMMARY:Friday Night Dancing
DESCRIPTION:Friday night dances open to the public! Come dance to everything from the Standards\, the 40's\, 50's\, & 60's through today!\n\nOnly $10 per person   Arrive at 7pm for Dance Lessons (included in $10 admission charge)\n\nSoft drinks\, bottled water and small packaged snacks available for purchase. Feel free to BYOB (beverage) & BYOF (food)   Cups\, Ice and Sodas available.\n\nPlanning a Party? Have your next Special Occasion party at our weekly dances!\n\nNo renting of a hall   no hiring of a band   no confusion or setup!\n\nJust BYOB (beverages)\, BYOF (food)\, everybody pays their own $10 to get in and presto  The Perfect Party!\n\nEveryone will have a great time and all it takes is a phone call to reserve your table! Contact us at 941-773-0177 to reserve your table.
X-ALT-DESC;FMTTYPE=text/html:<p style="box-sizing: border-box\; overflow-wrap: break-word\; margin-top: 0px\; margin-bottom: 1rem\; line-height: 2\; color: rgb(105\, 115\, 145)\; font-family: &quot\;Open Sans&quot\;\; font-size: 14.4px\; text-indent: 0.25px\;">Friday night dances open to the public! Come dance to everything from the Standards\, the 40&rsquo\;s\, 50&rsquo\;s\, &amp\; 60&rsquo\;s through today!</p>\n\n<p style="box-sizing: border-box\; overflow-wrap: break-word\; margin-top: 0px\; margin-bottom: 1rem\; line-height: 2\; color: rgb(105\, 115\, 145)\; font-family: &quot\;Open Sans&quot\;\; font-size: 14.4px\; text-indent: 0.25px\;">Only $10 per person &mdash\; Arrive at 7pm for Dance Lessons (included in $10 admission charge)</p>\n\n<p style="box-sizing: border-box\; overflow-wrap: break-word\; margin-top: 0px\; margin-bottom: 1rem\; line-height: 2\; color: rgb(105\, 115\, 145)\; font-family: &quot\;Open Sans&quot\;\; font-size: 14.4px\; text-indent: 0.25px\;">Soft drinks\, bottled water and small packaged snacks available for purchase. Feel free to BYOB (beverage) &amp\; BYOF (food) &ndash\; Cups\, Ice and Sodas available.</p>\n\n<p style="box-sizing: border-box\; overflow-wrap: break-word\; margin-top: 0px\; margin-bottom: 1rem\; line-height: 2\; color: rgb(105\, 115\, 145)\; font-family: &quot\;Open Sans&quot\;\; font-size: 14.4px\; text-indent: 0.25px\;">Planning a Party? Have your next Special Occasion party at our weekly dances!</p>\n\n<p style="box-sizing: border-box\; overflow-wrap: break-word\; margin-top: 0px\; margin-bottom: 1rem\; line-height: 2\; color: rgb(105\, 115\, 145)\; font-family: &quot\;Open Sans&quot\;\; font-size: 14.4px\; text-indent: 0.25px\;">No renting of a hall &ndash\; no hiring of a band &ndash\; no confusion or setup!</p>\n\n<p style="box-sizing: border-box\; overflow-wrap: break-word\; margin-top: 0px\; margin-bottom: 1rem\; line-height: 2\; color: rgb(105\, 115\, 145)\; font-family: &quot\;Open Sans&quot\;\; font-size: 14.4px\; text-indent: 0.25px\;">Just BYOB (beverages)\, BYOF (food)\, everybody pays their own $10 to get in and presto&hellip\; The Perfect Party!</p>\n\n<p style="box-sizing: border-box\; overflow-wrap: break-word\; margin-top: 0px\; margin-bottom: 1rem\; line-height: 2\; color: rgb(105\, 115\, 145)\; font-family: &quot\;Open Sans&quot\;\; font-size: 14.4px\; text-indent: 0.25px\;">Everyone will have a great time and all it takes is a phone call to reserve your table! Contact us at 941-773-0177 to reserve your table.</p>\n
LOCATION:1705 Manatee Avenue West Downtown Bradenton Bradenton 34205
UID:e.2475.37714
SEQUENCE:3
DTSTAMP:20260419T195133Z
URL:https://business.manateechamber.com/events/details/friday-night-dancing-08-26-2022-37714
END:VEVENT

END:VCALENDAR
