BEGIN:VCALENDAR
VERSION:2.0
PRODID:-//ChamberMaster//Event Calendar 2.0//EN
METHOD:PUBLISH
X-PUBLISHED-TTL:P3D
REFRESH-INTERVAL:P3D
CALSCALE:GREGORIAN
BEGIN:VEVENT
DTSTART:20220811T190000Z
DTEND:20220811T220000Z
X-MICROSOFT-CDO-ALLDAYEVENT:FALSE
SUMMARY:Grand opening Introducing Discovery Villages at Sarasota Bay Active Independent Living
DESCRIPTION:Enjoy a fun\, glitter and gold themed affair featuring gourmet hors d'oeuvres\, champagne & cocktails and a live musical performance. Our wonderful team members are excited to meet you and take you on a guided tour of our brand new\, one-of-a-kind\, resort-style Active Independent Living community.
X-ALT-DESC;FMTTYPE=text/html:Enjoy a fun\, glitter and gold themed affair featuring gourmet hors d&#39\;oeuvres\, champagne &amp\; cocktails and a live musical performance. Our wonderful team members are excited to meet you and take you on a guided tour of our brand new\, one-of-a-kind\, resort-style Active Independent Living community.&nbsp\;
LOCATION:1408 69th Avenue West\, Bradenton\, FL 34207
UID:e.2475.39105
SEQUENCE:3
DTSTAMP:20260419T203654Z
URL:https://business.manateechamber.com/events/details/grand-opening-introducing-discovery-villages-at-sarasota-bay-active-independent-living-39105
END:VEVENT

END:VCALENDAR
