BEGIN:VCALENDAR
VERSION:2.0
PRODID:-//ChamberMaster//Event Calendar 2.0//EN
METHOD:PUBLISH
X-PUBLISHED-TTL:P3D
REFRESH-INTERVAL:P3D
CALSCALE:GREGORIAN
BEGIN:VEVENT
DTSTART:20260424T150000Z
DTEND:20260424T180000Z
X-MICROSOFT-CDO-ALLDAYEVENT:FALSE
SUMMARY:GRAND OPENING & RIBBON CUTTING - Vibrant Family Chiropractic
DESCRIPTION:You're Invited to the Grand Opening of Vibrant Family Chiropractic!\n\nCome celebrate with us as we officially open our doors to the community. We are excited to welcome you into our new space and share this special occasion with family\, friends\, and neighbors.\n\nStop by to tour the office\, meet Dr. Andre and Dr. Renee\, enjoy food and drinks\, and enter our door prizes giveaway. It will be a great opportunity to learn more about our office\, our approach to chiropractic care\, and the heart behind what we do.\n\nWe would love to celebrate this exciting new chapter with you and look forward to welcoming you in.\n\n\n\nTIME: 11:00AM - 2:00PM - Ribbon cutting at 11:15am!
X-ALT-DESC;FMTTYPE=text/html:<p>You&rsquo\;re Invited to the Grand Opening of Vibrant Family Chiropractic!</p>\n\n<p>Come celebrate with us as we officially open our doors to the community. We are excited to welcome you into our new space and share this special occasion with family\, friends\, and neighbors.</p>\n\n<p>Stop by to tour the office\, meet Dr. Andre and Dr. Renee\, enjoy food and drinks\, and enter our door prizes giveaway. It will be a great opportunity to learn more about our office\, our approach to chiropractic care\, and the heart behind what we do.</p>\n\n<p>We would love to celebrate this exciting new chapter with you and look forward to welcoming you in.<br />\n<br />\nTIME: 11:00AM - 2:00PM - Ribbon cutting at 11:15am!</p>\n
LOCATION:5454 Lena Rd Unit 107 Bradenton\, Florida 34211
UID:e.2475.53550
SEQUENCE:3
DTSTAMP:20260423T215941Z
URL:https://business.manateechamber.com/events/details/grand-opening-ribbon-cutting-vibrant-family-chiropractic-53550
END:VEVENT

END:VCALENDAR
