BEGIN:VCALENDAR
VERSION:2.0
PRODID:-//ChamberMaster//Event Calendar 2.0//EN
METHOD:PUBLISH
X-PUBLISHED-TTL:P3D
REFRESH-INTERVAL:P3D
CALSCALE:GREGORIAN
BEGIN:VEVENT
DTSTART:20200405T160000Z
DTEND:20200405T170000Z
X-MICROSOFT-CDO-ALLDAYEVENT:FALSE
SUMMARY:Groundbreaking Service
DESCRIPTION:Casa de Dios en Bradenton will held Ground breaking Service... (New building Construction). will have a Community gathering\, air bouncers for kids\, hot dogs\, burgers\, refreshments. etc
X-ALT-DESC;FMTTYPE=text/html:Casa de Dios en Bradenton will held Ground breaking Service... (New building Construction). will have a Community gathering\, air bouncers for kids\, hot dogs\, burgers\, refreshments. etc
LOCATION:4420 9th St E. Bradenton Fl 34203
UID:e.2475.28924
SEQUENCE:3
DTSTAMP:20260422T013147Z
URL:https://business.manateechamber.com/events/details/groundbreaking-service-28924
END:VEVENT

END:VCALENDAR
