BEGIN:VCALENDAR
VERSION:2.0
PRODID:-//ChamberMaster//Event Calendar 2.0//EN
METHOD:PUBLISH
X-PUBLISHED-TTL:P3D
REFRESH-INTERVAL:P3D
CALSCALE:GREGORIAN
BEGIN:VEVENT
DTSTART:20220521T140000Z
DTEND:20220521T170000Z
X-MICROSOFT-CDO-ALLDAYEVENT:FALSE
SUMMARY:GTE Financial Grand-Opening
DESCRIPTION:Join us for our Grand-Opening event in celebration of our newest GTE Community Financial Center in Lakewood Ranch! You wont want to miss all the fun!! Games & Prizes | Music & Entertainment | Food & Beverages **$1K Giveaway Every Hour!!!** One member winner will be chosen at random every hour between 10am - 1pm at the Grand-Opening celebration.
X-ALT-DESC;FMTTYPE=text/html:Join us for our Grand-Opening event in celebration of our newest GTE Community Financial Center in Lakewood Ranch! You wont want to miss all the fun!! Games &amp\; Prizes | Music &amp\; Entertainment | Food &amp\; Beverages **$1K Giveaway Every Hour!!!** One member winner will be chosen at random every hour between 10am - 1pm at the Grand-Opening celebration.
LOCATION:7375 University Parkway\, Bradenton\, FL 34202
UID:e.2475.35180
SEQUENCE:3
DTSTAMP:20260422T140651Z
URL:https://business.manateechamber.com/events/details/gte-financial-grand-opening-35180
END:VEVENT

END:VCALENDAR
