BEGIN:VCALENDAR
VERSION:2.0
PRODID:-//ChamberMaster//Event Calendar 2.0//EN
METHOD:PUBLISH
X-PUBLISHED-TTL:P3D
REFRESH-INTERVAL:P3D
CALSCALE:GREGORIAN
BEGIN:VEVENT
DTSTART:20151030T114500Z
DTEND:20151030T130000Z
X-MICROSOFT-CDO-ALLDAYEVENT:FALSE
SUMMARY:Halloween Coffee Club - October 30\, 2015
DESCRIPTION:Please join us for breakfast and enjoy great networking\, updates on Chamber programs & events and fantastic door prizes. Meet friends\, new and old\, over coffee and breakfast.\n\n \n\nThis event is FREE for Chamber members\, and no RSVP necessary. Be sure to bring plenty of business cards!\n\n \n\n\nNO RSVP Required. Free for Chamber members and $10 for future members.
X-ALT-DESC;FMTTYPE=text/html:<span style="font-size: 10pt\;"><font face="Arial">Please join us for breakfast and enjoy great networking\, updates on Chamber programs &amp\; events and fantastic door prizes. Meet friends\, new and old\, over coffee and breakfast.</font></span>\n\n<div>&nbsp\;</div>\n\n<div><span style="font-size: 10pt\;"><font face="Arial">This event is <b><font color="#0000cd">FREE </font></b>for Chamber members\, and no RSVP necessary. Be sure to bring plenty of business cards!</font></span>\n\n<div>&nbsp\;</div>\n</div>\n\n<div><b style="font-family: Tahoma\, sans-serif\; font-size: small\; background-color: rgb(255\, 255\, 255)\;">NO RSVP Required. Free for Chamber members and $10 for future members.</b></div>\n
LOCATION:Boys & Girls Clubs 1600 10th St W. Palmetto\, FL 34221
UID:e.2475.594
SEQUENCE:3
DTSTAMP:20260419T145603Z
URL:https://business.manateechamber.com/events/details/halloween-coffee-club-october-30-2015-10-30-2015-594
END:VEVENT

END:VCALENDAR
