BEGIN:VCALENDAR
VERSION:2.0
PRODID:-//ChamberMaster//Event Calendar 2.0//EN
METHOD:PUBLISH
X-PUBLISHED-TTL:P3D
REFRESH-INTERVAL:P3D
CALSCALE:GREGORIAN
BEGIN:VEVENT
DTSTART:20220806T150000Z
DTEND:20220806T190000Z
X-MICROSOFT-CDO-ALLDAYEVENT:FALSE
SUMMARY:Health & Beauty Fair
DESCRIPTION:Health & Beauty Fair\n\nEsteem Medical Aesthetics\n\n\n\nSOFWAVE: The latest technology in non-invasive treatments for fine lines and wrinkles. \n\nEMSlim: Body Sculpting Session with SofWave Purchase.\n\n	$300 off SovWave if paid on August 6th!\n	Vendors & Shopping\n	Discounts & Samples\n	Food\, Wine & Live Music\n	On-Site Treatments & Demos\n	Amazing Door Prizes!!\n\nRSVP by TEXT to: (615) 319-3603
X-ALT-DESC;FMTTYPE=text/html:<strong>Health &amp\; Beauty Fair<br />\nEsteem Medical Aesthetics<br />\n<br />\nSOFWAVE:&nbsp\;</strong>The latest technology in non-invasive treatments for fine lines and wrinkles.&nbsp\;<br />\n<strong>EMSlim</strong>: Body Sculpting Session with SofWave Purchase.\n<ul>\n	<li>$300 off SovWave if paid on August 6th!</li>\n	<li>Vendors &amp\; Shopping</li>\n	<li>Discounts &amp\; Samples</li>\n	<li>Food\, Wine &amp\; Live Music</li>\n	<li>On-Site Treatments &amp\; Demos</li>\n	<li>Amazing Door Prizes!!</li>\n</ul>\nRSVP by TEXT to: (615) 319-3603<br />\n&nbsp\;
LOCATION:Peridia Golf & Country Club Clubhouse 4950 Peridia Blvd. E. Bradenton\, FL 34203
UID:e.2475.36762
SEQUENCE:3
DTSTAMP:20260419T195356Z
URL:https://business.manateechamber.com/events/details/health-beauty-fair-36762
END:VEVENT

END:VCALENDAR
