BEGIN:VCALENDAR
VERSION:2.0
PRODID:-//ChamberMaster//Event Calendar 2.0//EN
METHOD:PUBLISH
X-PUBLISHED-TTL:P3D
REFRESH-INTERVAL:P3D
CALSCALE:GREGORIAN
BEGIN:VEVENT
DTSTART:20160330T120000Z
DTEND:20160330T130000Z
X-MICROSOFT-CDO-ALLDAYEVENT:FALSE
SUMMARY:Health Links Florida Info Session at Manatee Chamber of Commerce Bradenton Office
DESCRIPTION:Health Links is a community-based workplace health and safety program to help build healthier businesses\, healthier lives. The mission of Health Links is to improve the health and well-being of working adults in an approachable and sustainable way.\n\n\n\nThis informational session is open to everyone in the community to learn about Healthy Business Certification to support local businesses that offer their employees' health and wellness programs/resources in the workplace.\n\n\n\nWe hope to empower local businesses to implement employee wellness programs and recognize employers who are committed to helping their workforce be as healthy as possible.
X-ALT-DESC;FMTTYPE=text/html:<span style="line-height: 16.9px\; font-family: Arial\, Helvetica\, sans-serif\;">Health&nbsp\;Links&nbsp\;is a community-based workplace health and safety program&nbsp\;to help build healthier businesses\, healthier lives.&nbsp\;The mission of Health Links is to improve the health and well-being of working adults in an approachable and sustainable way.</span><br />\n<br />\nThis informational session is open to everyone in the community to learn about Healthy Business Certification to support local businesses that offer their employees&rsquo\; health and wellness programs/resources in the workplace.<br />\n<br />\nWe hope to empower local businesses to implement employee wellness programs and recognize employers who are committed to helping their workforce be as healthy as possible.
LOCATION:Manatee Chamber of Commerce Bradenton Office 222 10th Street West Bradenton\, FL 34205
UID:e.2475.5795
SEQUENCE:3
DTSTAMP:20260419T211706Z
URL:https://business.manateechamber.com/events/details/health-links-florida-info-session-at-manatee-chamber-of-commerce-bradenton-office-03-30-2016-5795
END:VEVENT

END:VCALENDAR
