BEGIN:VCALENDAR
VERSION:2.0
PRODID:-//ChamberMaster//Event Calendar 2.0//EN
METHOD:PUBLISH
X-PUBLISHED-TTL:P3D
REFRESH-INTERVAL:P3D
CALSCALE:GREGORIAN
BEGIN:VEVENT
DTSTART:20160311T130000Z
DTEND:20160311T140000Z
X-MICROSOFT-CDO-ALLDAYEVENT:FALSE
SUMMARY:Health Links Florida Info Session at Manatee Chamber of Commerce Lakewood Ranch Office at the McClure Center
DESCRIPTION:Health Links is a community-based workplace health and safety program to help build healthier businesses\, healthier lives. The mission of Health Links is to improve the health and well-being of working adults in an approachable and sustainable way.\n\n\n\nThis informational session is open to everyone in the community to learn about Healthy Business Certification to support local businesses that offer their employees' health and wellness programs/resources in the workplace.\n\n\n\nWe hope to empower local businesses to implement employee wellness programs and recognize employers who are committed to helping their workforce be as healthy as possible.
X-ALT-DESC;FMTTYPE=text/html:Health Links is a community-based workplace health and safety program to help build healthier businesses\, healthier lives. The mission of Health Links is to improve the health and well-being of working adults in an approachable and sustainable way.<br />\n<br />\nThis informational session is open to everyone in the community to learn about Healthy Business Certification to support local businesses that offer their employees&rsquo\; health and wellness programs/resources in the workplace.<br />\n<br />\nWe hope to empower local businesses to implement employee wellness programs and recognize employers who are committed to helping their workforce be as healthy as possible.
LOCATION:Manatee Chamber of Commerce Lakewood Ranch Office at the McClure Center 4215 Concept Court Lakewood Ranch\, FL 34211
UID:e.2475.5324
SEQUENCE:3
DTSTAMP:20260419T211717Z
URL:https://business.manateechamber.com/events/details/health-links-florida-info-session-at-manatee-chamber-of-commerce-lakewood-ranch-office-at-the-mcclure-center-03-11-2016-5324
END:VEVENT

END:VCALENDAR
