BEGIN:VCALENDAR
VERSION:2.0
PRODID:-//ChamberMaster//Event Calendar 2.0//EN
METHOD:PUBLISH
X-PUBLISHED-TTL:P3D
REFRESH-INTERVAL:P3D
CALSCALE:GREGORIAN
BEGIN:VEVENT
DTSTART:20160504T200000Z
DTEND:20160504T210000Z
X-MICROSOFT-CDO-ALLDAYEVENT:FALSE
SUMMARY:Healthcare Committee Meeting
DESCRIPTION:
X-ALT-DESC;FMTTYPE=text/html:
LOCATION:Manatee Chamber of Commerce 222 10th St. W. Bradenton\, FL 34205
UID:e.2475.5810
SEQUENCE:3
DTSTAMP:20260420T004208Z
URL:https://business.manateechamber.com/events/details/healthcare-committee-meeting-05-04-2016-5810
END:VEVENT

END:VCALENDAR
