BEGIN:VCALENDAR
VERSION:2.0
PRODID:-//ChamberMaster//Event Calendar 2.0//EN
METHOD:PUBLISH
X-PUBLISHED-TTL:P3D
REFRESH-INTERVAL:P3D
CALSCALE:GREGORIAN
BEGIN:VEVENT
DTSTART:20260328T140000Z
DTEND:20260328T180000Z
X-MICROSOFT-CDO-ALLDAYEVENT:FALSE
SUMMARY:Healthy Harvest-Fest
DESCRIPTION:Our healthy harvest-fest takes place each spring and winter season. vendors\, music\, and family fun are on-site each time.
X-ALT-DESC;FMTTYPE=text/html:Our healthy harvest-fest takes place each spring and winter season. vendors\, music\, and family fun are on-site each time.
LOCATION:Gamble Creek Farms
UID:e.2475.53474
SEQUENCE:3
DTSTAMP:20260421T120354Z
URL:https://business.manateechamber.com/events/details/healthy-harvest-fest-53474
END:VEVENT

END:VCALENDAR
