BEGIN:VCALENDAR
VERSION:2.0
PRODID:-//ChamberMaster//Event Calendar 2.0//EN
METHOD:PUBLISH
X-PUBLISHED-TTL:P3D
REFRESH-INTERVAL:P3D
CALSCALE:GREGORIAN
BEGIN:VEVENT
DTSTART:20260422T170000Z
DTEND:20260422T190000Z
X-MICROSOFT-CDO-ALLDAYEVENT:FALSE
SUMMARY:Homeschool Wednesdays at Canvas & Clay!
DESCRIPTION:Homeschool Wednesdays at Canvas & Clay! ????\n\n\n\nCalling all homeschool families! Every Wednesday from 1 3 PM\, your group can enjoy 10% OFF creative outings at Canvas & Clay Art Studio.\n\n\n\n? Paint\, sculpt\, and create together\n\n\n\n? Perfect mid-week activity\n\n\n\n? Specially for homeschool groups\n\n\n\n?? When: Every Wednesday\n\n\n\n?? Time: 1 3 PM\n\n\n\n?? Discount: 10% off for homeschool groups\n\n\n\nBring your imagination we'll supply the rest! ???\n\n\n\n?? Canvas & Clay Art Studio - 839 8th Ave W\, Palmetto FL 34221\n\n\n\n?? Call ahead to reserve your spot! 941-212-6943
X-ALT-DESC;FMTTYPE=text/html:<div>\n<div><span style="font-family:inherit">Homeschool Wednesdays at Canvas &amp\; Clay! ????</span></div>\n</div>\n\n<div>\n<div><span style="font-family:inherit">Calling all homeschool families! Every Wednesday from 1&ndash\;3 PM\, your group can enjoy 10% OFF creative outings at Canvas &amp\; Clay Art Studio.</span></div>\n</div>\n\n<div>\n<div><span style="font-family:inherit">? Paint\, sculpt\, and create together</span></div>\n</div>\n\n<div>\n<div><span style="font-family:inherit">? Perfect mid-week activity</span></div>\n</div>\n\n<div>\n<div><span style="font-family:inherit">? Specially for homeschool groups</span></div>\n</div>\n\n<div>\n<div><span style="font-family:inherit">?? When: Every Wednesday</span></div>\n</div>\n\n<div>\n<div><span style="font-family:inherit">?? Time: 1&ndash\;3 PM</span></div>\n</div>\n\n<div>\n<div><span style="font-family:inherit">?? Discount: 10% off for homeschool groups</span></div>\n</div>\n\n<div>\n<div><span style="font-family:inherit">Bring your imagination&mdash\;we&rsquo\;ll supply the rest! ???</span></div>\n</div>\n\n<div>\n<div><span style="font-family:inherit">?? Canvas &amp\; Clay Art Studio - 839 8th Ave W\, Palmetto FL 34221</span></div>\n</div>\n\n<div>\n<div><span style="font-family:inherit">?? Call ahead to reserve your spot! 941-212-6943</span></div>\n</div>\n
LOCATION:Canvas & Clay Art Studio 839 8th Ave W Palmetto\, FL 34221
UID:e.2475.52514
SEQUENCE:3
DTSTAMP:20260420T020743Z
URL:https://business.manateechamber.com/events/details/homeschool-wednesdays-at-canvas-clay-04-22-2026-52514
END:VEVENT

END:VCALENDAR
