BEGIN:VCALENDAR
VERSION:2.0
PRODID:-//ChamberMaster//Event Calendar 2.0//EN
METHOD:PUBLISH
X-PUBLISHED-TTL:P3D
REFRESH-INTERVAL:P3D
CALSCALE:GREGORIAN
BEGIN:VEVENT
DTSTART:20220817T233000Z
DTEND:20220818T020000Z
X-MICROSOFT-CDO-ALLDAYEVENT:FALSE
SUMMARY:HOW TO SUCCEED IN BUSINESS WITHOUT REALLY TRYING
DESCRIPTION:Power\, sex\, ambition\, greed It's just another day at the office in this classic satire of big business.\n\n\n\nBig business means big laughs in this delightfully clever lampoon of life on the corporate ladder.\n\nThis show is rated PG.
X-ALT-DESC;FMTTYPE=text/html:<span style="font-family:verdana\,sans-serif"><strong>Power\, sex\, ambition\, greed&hellip\;It&rsquo\;s just another day at the office in this classic satire of big business.</strong><br />\n<br />\nBig business means big laughs in this delightfully clever lampoon of life on the corporate ladder.</span><br />\n<span style="font-family:verdana\,sans-serif">This show is rated PG.</span>
LOCATION:Manatee Performing Arts Center 502 Third Avenue West Bradenton\, FL 34205 Additional FREE Parking 402 7th Street West Bradenton\, FL 34205
UID:e.2475.39363
SEQUENCE:3
DTSTAMP:20260419T201435Z
URL:https://business.manateechamber.com/events/details/how-to-succeed-in-business-without-really-trying-08-17-2022-39363
END:VEVENT

END:VCALENDAR
