BEGIN:VCALENDAR
VERSION:2.0
PRODID:-//ChamberMaster//Event Calendar 2.0//EN
METHOD:PUBLISH
X-PUBLISHED-TTL:P3D
REFRESH-INTERVAL:P3D
CALSCALE:GREGORIAN
BEGIN:VEVENT
DTSTART:20220812T223000Z
DTEND:20220813T003000Z
X-MICROSOFT-CDO-ALLDAYEVENT:FALSE
SUMMARY:I Dream of Manatee: Visionaries Past & Present
DESCRIPTION:I Dream of Manatee: Visionaries Past & Present\n\n\n\nAbout this event\n\n\n\n\nManatee - once its own town\, today's East Bradenton - is booming! But it's not the first time that entrepreneurial energy has thrived in this area. Join Compass Rose History Experiences on a walking experience to meet today's visionaries and hear stories of visionaries from the past as we explore this magical place along the Manatee River.\n\nThank you to our partners:\n\n\n	Every Body Yoga\n	Segunda Vida\n	Oscura\n	Central Cafe & Bar\n\n\nABOUT US:\n\nCompass Rose History Experiences is owned by Mimi Cirbusova and Andrea Knies\, who share their love of local history through unique experiences. You can learn more about us on our website: compassrosehistory.com\n\nREGISTRATION DETAILS:\n\n* This history experience begins at Every Body Yoga (424 9th St E\, Bradenton\, FL 34208) and will conclude at Central Cafe (906 Manatee Ave E\, Bradenton\, FL 34208).\n\n* Please allow ample time for parking and meeting the group. We recommend parking in the Oscura lot (816 Manatee Ave E\, Bradenton\, FL 34208) or on 9th Ave E between Every Body Yoga and the Manatee River. Compass Rose History Experiences is not responsible for parking fees or fines incurred by ticket holders.\n\n* We recommend wearing comfortable shoes for walking/standing\, and weather-appropriate attire. Walking distance is under .5 mile.\n\nFor questions\, please email: contact@compassrosehistory.com.\n\nWEATHER POLICY:\n\nThe I Dream of Manatee Tour will take place if it is hot\, windy\, or a little bit rainy. However\, for the safety of our guests\, we will cancel in case of severe weather. If a weather cancellation is necessary\, we will alert ticket holders 24 hours prior to the tour by email and announce on our Facebook and Instagram pages.
X-ALT-DESC;FMTTYPE=text/html:<div class="eds-l-mar-bot-8" style="margin: 0px 0px 32px\; padding: 0px\; color: rgb(57\, 54\, 79)\; font-family: &quot\;Neue Plak&quot\;\, -apple-system\, BlinkMacSystemFont\, Roboto\, &quot\;Helvetica Neue&quot\;\, Helvetica\, Tahoma\, Arial\, sans-serif\; font-size: 14.9333px\; letter-spacing: 0.5px\;">\n<p class="eds-text-bm" style="margin: 0px\; padding: 0px\; text-rendering: optimizelegibility\; font-size: 0.875rem\; line-height: 1.25rem\;"><span style="font-weight: 700\;">I Dream of Manatee: Visionaries Past &amp\; Present</span></p>\n</div>\n\n<div class="eds-l-mar-bot-8 structured-content" style="margin: 0px 0px 32px\; padding: 0px\; color: rgb(57\, 54\, 79)\; font-family: &quot\;Neue Plak&quot\;\, -apple-system\, BlinkMacSystemFont\, Roboto\, &quot\;Helvetica Neue&quot\;\, Helvetica\, Tahoma\, Arial\, sans-serif\; font-size: 14.9333px\; letter-spacing: 0.5px\;">\n<h2 class="eds-text-bl eds-l-mar-bot-4" style="margin: 0px -0.25px 16px 0px\; padding: 0px\; text-rendering: optimizelegibility\; font-size: 1.125rem\; line-height: 1.5rem\; letter-spacing: 0.25px\; font-weight: 600\;">About this event</h2>\n\n<div class="has-user-generated-content" style="margin: 0px\; padding: 0px\;">\n<div class="eds-l-mar-vert-6 eds-l-sm-mar-vert-4 eds-text-bm structured-content-rich-text" style="margin: 24px 0px\; padding: 0px\; text-rendering: optimizelegibility\; font-size: 0.875rem\; line-height: 1.25rem\;">\n<div class="eds-text--left" style="margin: 0px\; padding: 0px\;">\n<p style="margin: 0px\; padding: 0px\; color: rgb(111\, 114\, 135)\; font-size: 16px\; line-height: 1.5rem\;">Manatee - once its own town\, today&rsquo\;s East Bradenton - is booming! But it&rsquo\;s not the first time that entrepreneurial energy has thrived in this area. Join Compass Rose History Experiences on a walking experience to meet today&rsquo\;s visionaries and hear stories of visionaries from the past as we explore this magical place along the Manatee River.</p>\n\n<p style="margin: 0px\; padding: 10px 0px 0px\; color: rgb(111\, 114\, 135)\; font-size: 16px\; line-height: 1.5rem\;">Thank you to our partners:</p>\n\n<ul style="margin: 0px\; padding-top: 10px\; padding-right: 0px\; padding-left: 2em\; list-style-position: initial\; list-style-image: initial\; color: rgb(111\, 114\, 135)\; font-size: 16px\; line-height: 1.5rem\;">\n	<li style="margin: 0px\; padding: 0px\;"><a href="https://www.everybodyyogabradenton.com/" rel="nofollow noopener noreferrer" style="text-decoration-line: none\; color: var(--eds-control\,#3659e3)\; cursor: pointer\; background-color: transparent\; padding-top: 0px\;" target="_blank">Every Body Yoga</a></li>\n	<li style="margin: 0px\; padding: 5px 0px 0px\;"><a href="https://segundavida.org/" rel="nofollow noopener noreferrer" style="text-decoration-line: none\; color: var(--eds-control\,#3659e3)\; cursor: pointer\; background-color: transparent\; padding-top: 0px\;" target="_blank">Segunda Vida</a></li>\n	<li style="margin: 0px\; padding: 5px 0px 0px\;"><a href="https://oscura-inc.square.site/" rel="nofollow noopener noreferrer" style="text-decoration-line: none\; color: var(--eds-control\,#3659e3)\; cursor: pointer\; background-color: transparent\; padding-top: 0px\;" target="_blank">Oscura</a></li>\n	<li style="margin: 0px\; padding: 5px 0px 0px\;"><a href="http://centralcafe941.com/" rel="nofollow noopener noreferrer" style="text-decoration-line: none\; color: var(--eds-control\,#3659e3)\; cursor: pointer\; background-color: transparent\; padding-top: 0px\;" target="_blank">Central Cafe &amp\; Bar</a></li>\n</ul>\n\n<p style="margin: 0px\; padding: 10px 0px 0px\; color: rgb(111\, 114\, 135)\; font-size: 16px\; line-height: 1.5rem\;">ABOUT US:</p>\n\n<p style="margin: 0px\; padding: 10px 0px 0px\; color: rgb(111\, 114\, 135)\; font-size: 16px\; line-height: 1.5rem\;">Compass Rose History Experiences is owned by Mimi Cirbusova and Andrea Knies\, who share their love of local history through unique experiences. You can learn more about us on our website:&nbsp\;<a href="https://compassrosehistory.com/" rel="nofollow noopener noreferrer" style="text-decoration-line: none\; color: var(--eds-control\,#3659e3)\; cursor: pointer\; background-color: transparent\; padding-top: 0px\;" target="_blank">compassrosehistory.com</a></p>\n\n<p style="margin: 0px\; padding: 10px 0px 0px\; color: rgb(111\, 114\, 135)\; font-size: 16px\; line-height: 1.5rem\;">REGISTRATION DETAILS:</p>\n\n<p style="margin: 0px\; padding: 10px 0px 0px\; color: rgb(111\, 114\, 135)\; font-size: 16px\; line-height: 1.5rem\;">* This history experience begins at Every Body Yoga (424 9th St E\, Bradenton\, FL 34208) and will conclude at Central Cafe (906 Manatee Ave E\, Bradenton\, FL 34208).</p>\n\n<p style="margin: 0px\; padding: 10px 0px 0px\; color: rgb(111\, 114\, 135)\; font-size: 16px\; line-height: 1.5rem\;">* Please allow ample time for parking and meeting the group. We recommend parking in the Oscura lot (816 Manatee Ave E\, Bradenton\, FL 34208) or on 9th Ave E between Every Body Yoga and the Manatee River. Compass Rose History Experiences is not responsible for parking fees or fines incurred by ticket holders.</p>\n\n<p style="margin: 0px\; padding: 10px 0px 0px\; color: rgb(111\, 114\, 135)\; font-size: 16px\; line-height: 1.5rem\;">* We recommend wearing comfortable shoes for walking/standing\, and weather-appropriate attire. Walking distance is under .5 mile.</p>\n\n<p style="margin: 0px\; padding: 10px 0px 0px\; color: rgb(111\, 114\, 135)\; font-size: 16px\; line-height: 1.5rem\;">For questions\, please email: contact@compassrosehistory.com.</p>\n\n<p style="margin: 0px\; padding: 10px 0px 0px\; color: rgb(111\, 114\, 135)\; font-size: 16px\; line-height: 1.5rem\;">WEATHER POLICY:</p>\n\n<p style="margin: 0px\; padding: 10px 0px 0px\; color: rgb(111\, 114\, 135)\; font-size: 16px\; line-height: 1.5rem\;">The I Dream of Manatee Tour will take place if it is hot\, windy\, or a little bit rainy. However\, for the safety of our guests\, we will cancel in case of severe weather. If a weather cancellation is necessary\, we will alert ticket holders 24 hours prior to the tour by email and announce on our Facebook and Instagram pages.</p>\n</div>\n</div>\n</div>\n</div>\n
LOCATION:This history experience begins at Every Body Yoga (424 9th St E\, Bradenton\, FL 34208) and will conclude at Central Cafe (906 Manatee Ave E\, Bradenton\, FL 34208).
UID:e.2475.39322
SEQUENCE:3
DTSTAMP:20260419T195537Z
URL:https://business.manateechamber.com/events/details/i-dream-of-manatee-visionaries-past-present-39322
END:VEVENT

END:VCALENDAR
