BEGIN:VCALENDAR
VERSION:2.0
PRODID:-//ChamberMaster//Event Calendar 2.0//EN
METHOD:PUBLISH
X-PUBLISHED-TTL:P3D
REFRESH-INTERVAL:P3D
CALSCALE:GREGORIAN
BEGIN:VEVENT
DTSTART:20160127T210000Z
DTEND:20160127T220000Z
X-MICROSOFT-CDO-ALLDAYEVENT:FALSE
SUMMARY:Infill Committee 1-27-2016
DESCRIPTION:
X-ALT-DESC;FMTTYPE=text/html:
LOCATION:
UID:e.2475.6692
SEQUENCE:3
DTSTAMP:20260419T180643Z
URL:https://business.manateechamber.com/events/details/infill-committee-1-27-2016-01-27-2016-6692
END:VEVENT

END:VCALENDAR
