BEGIN:VCALENDAR
VERSION:2.0
PRODID:-//ChamberMaster//Event Calendar 2.0//EN
METHOD:PUBLISH
X-PUBLISHED-TTL:P3D
REFRESH-INTERVAL:P3D
CALSCALE:GREGORIAN
BEGIN:VEVENT
DTSTART:20160224T210000Z
DTEND:20160224T220000Z
X-MICROSOFT-CDO-ALLDAYEVENT:FALSE
SUMMARY:Infill Committee 2-24-2016
DESCRIPTION:
X-ALT-DESC;FMTTYPE=text/html:
LOCATION:
UID:e.2475.6693
SEQUENCE:3
DTSTAMP:20260419T195532Z
URL:https://business.manateechamber.com/events/details/infill-committee-2-24-2016-02-24-2016-6693
END:VEVENT

END:VCALENDAR
