BEGIN:VCALENDAR
VERSION:2.0
PRODID:-//ChamberMaster//Event Calendar 2.0//EN
METHOD:PUBLISH
X-PUBLISHED-TTL:P3D
REFRESH-INTERVAL:P3D
CALSCALE:GREGORIAN
BEGIN:VEVENT
DTSTART:20220701T140000Z
DTEND:20220731T210000Z
X-MICROSOFT-CDO-ALLDAYEVENT:FALSE
SUMMARY:Island Gallery West-July Featured Artist Terri Westbrook Juy
DESCRIPTION:Terri Westbrook is a painter whose style leans toward impressionism\, working primarily in pastel media.\n\n\n\nShe is inspired by the places she has traveled to and lived\, including Charleston\, SC\; Anna Maria\, FL and the Florida Panhandle. Terri discovered later in life her love and talent for creating. She has learned the basics of art and the nuances of pastel art only in recent years from online and in-person instruction. Her paintings are mostly of nature\, particularly landscapes and waterscapes\, with surprising use of color.\n\n\n\nAccording to Terri\, "My paintings are journal entries . . . my response to what I see when I'm out in nature or my emotions about a place I visited many years ago. Making art is like meditation for me. I hope people enjoy my pieces that come from my heart." You can see more of Terri's work at: http://www.terriwestbrook.com
X-ALT-DESC;FMTTYPE=text/html:Terri Westbrook is a painter whose style leans toward impressionism\, working primarily in pastel media.<br />\n<br />\nShe is inspired by the places she has traveled to and lived\, including Charleston\, SC\; Anna Maria\, FL and the Florida Panhandle. Terri discovered later in life her love and talent for creating. She has learned the basics of art and the nuances of pastel art only in recent years from online and in-person instruction. Her paintings are mostly of nature\, particularly landscapes and waterscapes\, with surprising use of color.<br />\n<br />\nAccording to Terri\, &ldquo\;My paintings are journal entries . . . my response to what I see when I&rsquo\;m out in nature or my emotions about a place I visited many years ago. Making art is like meditation for me. I hope people enjoy my pieces that come from my heart.&rdquo\; You can see more of Terri&rsquo\;s work at: http://www.terriwestbrook.com
LOCATION:5368 Gulf Drive in Holmes Beach\, Trolley Stop 15\, on Anna Maria Island.
UID:e.2475.35917
SEQUENCE:3
DTSTAMP:20260422T162306Z
URL:https://business.manateechamber.com/events/details/island-gallery-west-july-featured-artist-terri-westbrook-juy-35917
END:VEVENT

END:VCALENDAR
