BEGIN:VCALENDAR
VERSION:2.0
PRODID:-//ChamberMaster//Event Calendar 2.0//EN
METHOD:PUBLISH
X-PUBLISHED-TTL:P3D
REFRESH-INTERVAL:P3D
CALSCALE:GREGORIAN
BEGIN:VEVENT
DTSTART:20220524T140000Z
DTEND:20220524T210000Z
X-MICROSOFT-CDO-ALLDAYEVENT:FALSE
SUMMARY:Island Gallery West Meet the Artist — Janet Flickinger
DESCRIPTION:Meet the Artist! Janet will be in the Gallery both on Tuesday May 24 and Thursday\, May 26 from 10:00 am till 5:00 pm. View her Featured Artist exhibit and have a chat with Janet to learn all about her experiences and inspirations for her drawings.
X-ALT-DESC;FMTTYPE=text/html:Meet the Artist! Janet will be in the Gallery both on Tuesday May 24 and Thursday\, May 26 from 10:00 am till 5:00 pm. View her Featured Artist exhibit and have a chat with Janet to learn all about her experiences and inspirations for her drawings.
LOCATION:Island West Gallery is located at 5368 Gulf Drive in Holmes Beach\, Trolley Stop 15\, on Anna Maria Island. Gallery hours are 10 am to 5 pm\, Tuesday through Sunday. Visit www.islandgallerywest.com or call 941-778-6648 for updates about the art and 30 member-artists of the gallery. Masks are encouraged. Hand sanitizer is available.
UID:e.2475.35386
SEQUENCE:3
DTSTAMP:20260422T143832Z
URL:https://business.manateechamber.com/events/details/island-gallery-west-meet-the-artist-janet-flickinger-35386
END:VEVENT

END:VCALENDAR
