BEGIN:VCALENDAR
VERSION:2.0
PRODID:-//ChamberMaster//Event Calendar 2.0//EN
METHOD:PUBLISH
X-PUBLISHED-TTL:P3D
REFRESH-INTERVAL:P3D
CALSCALE:GREGORIAN
BEGIN:VEVENT
DTSTART:20200901T140000Z
DTEND:20200930T190000Z
X-MICROSOFT-CDO-ALLDAYEVENT:FALSE
SUMMARY:Island Gallery West Presents Jane Keeling - September's Featured Artist
DESCRIPTION:Jane Keeling's beautiful impressionistic oil paintings will be featured in her solo show for September called "Peaceful Places". Her wonderful art takes you on a serene journey both locally and around the world. Island Gallery West is located at 5368 Gulf Dr.\, Holmes Beach\, FL\, Trolley Stop 15 on Anna Maria Island. Hours Wed- Sunday 10AM to 3PM Please visit www.islandgallerywest.com\, Facebook or call 941-778-6648 for updates about the art and 29 artists of the gallery
X-ALT-DESC;FMTTYPE=text/html:Jane Keeling&#39\;s beautiful impressionistic oil paintings will be featured in her solo show for September called &quot\;Peaceful Places&quot\;. Her wonderful art takes you on a serene journey both locally and around the world. Island Gallery West is located at 5368 Gulf Dr.\, Holmes Beach\, FL\, Trolley Stop 15 on Anna Maria Island. Hours Wed- Sunday 10AM to 3PM Please visit www.islandgallerywest.com\, Facebook or call 941-778-6648 for updates about the art and 29 artists of the gallery
LOCATION:5368 Gulf Dr Holmes Beach
UID:e.2475.29603
SEQUENCE:3
DTSTAMP:20260423T090354Z
URL:https://business.manateechamber.com/events/details/island-gallery-west-presents-jane-keeling-september-s-featured-artist-29603
END:VEVENT

END:VCALENDAR
