BEGIN:VCALENDAR
VERSION:2.0
PRODID:-//ChamberMaster//Event Calendar 2.0//EN
METHOD:PUBLISH
X-PUBLISHED-TTL:P3D
REFRESH-INTERVAL:P3D
CALSCALE:GREGORIAN
BEGIN:VEVENT
DTSTART:20151002T190000Z
DTEND:20151002T220000Z
X-MICROSOFT-CDO-ALLDAYEVENT:FALSE
SUMMARY:It?s a Grand Opening and Ribbon Cutting! Manatee Chamber Event
DESCRIPTION:At Station 2 Innovation our mission is to be a catalyst for business growth. Through coworking ? bringing people together to work in a shared space - we are creating better places to work and as a result\, a better way to work. Community events educate\, empower and develop entrepreneurs. Business incubation programming\, access to advisors and mentors\, and preparation for funding accelerates and strengthens business growth. Soft landing services attract companies expanding into the region and fast track their entry into this marketplace. Our goals are to create a rich environment for growing sustainable\, high-wage jobs that will stay in the local area and to attract entrepreneurs and capital for building new businesses in the region. Stronger business growth means more jobs\, higher wages\, and a diversified and fortified place to live\, work and play. RESERVE FREE TICKETS HERE: http://station2grandopeing.eventbrite.com
X-ALT-DESC;FMTTYPE=text/html:At Station 2 Innovation our mission is to be a catalyst for business growth. Through coworking ? bringing people together to work in a shared space - we are creating better places to work and as a result\, a better way to work. Community events educate\, empower and develop entrepreneurs. Business incubation programming\, access to advisors and mentors\, and preparation for funding accelerates and strengthens business growth. Soft landing services attract companies expanding into the region and fast track their entry into this marketplace. Our goals are to create a rich environment for growing sustainable\, high-wage jobs that will stay in the local area and to attract entrepreneurs and capital for building new businesses in the region. Stronger business growth means more jobs\, higher wages\, and a diversified and fortified place to live\, work and play. RESERVE FREE TICKETS HERE: http://station2grandopeing.eventbrite.com
LOCATION:Station 2 Innovation 912 7th Ave. E. Braenton\, FL 34208
UID:e.2475.2533
SEQUENCE:3
DTSTAMP:20260419T150558Z
URL:https://business.manateechamber.com/events/details/it-s-a-grand-opening-and-ribbon-cutting-manatee-chamber-event-10-02-2015-2533
END:VEVENT

END:VCALENDAR
