BEGIN:VCALENDAR
VERSION:2.0
PRODID:-//ChamberMaster//Event Calendar 2.0//EN
METHOD:PUBLISH
X-PUBLISHED-TTL:P3D
REFRESH-INTERVAL:P3D
CALSCALE:GREGORIAN
BEGIN:VEVENT
DTSTART:20191108T130000Z
DTEND:20191108T230000Z
X-MICROSOFT-CDO-ALLDAYEVENT:FALSE
SUMMARY:Jax Kar Wash and Homes for our Troops Fundraiser
DESCRIPTION:Join JAX KAR WASH\, formerly ClearSunset Car Wash\, in supporting our severely injured Veterans. During the week of November 8th through November 14th\, $1.00 of every sold car wash goes to supporting HOMES FOR OUR TROOPS\, a life-changing non-profit organization that helps our most severely injured Veterans\, post 9/11\, and their families. In addition\, all Veterans' vehicles will be washed FREE on Veterans Day\, November 11th. Where: JAX KAR WASH\, formerly ClearSunset Car Wash & Detail Center Hours: Monday through Saturday 8:00am to 6:00pm\; Sunday 8:00am to 5:00 pm www.jaxkarwashfl.com 941.746.9274 www.hfotusa.org
X-ALT-DESC;FMTTYPE=text/html:Join JAX KAR WASH\, formerly ClearSunset Car Wash\, in supporting our severely injured Veterans. During the week of November 8th through November 14th\, $1.00 of every sold car wash goes to supporting HOMES FOR OUR TROOPS\, a life-changing non-profit organization that helps our most severely injured Veterans\, post 9/11\, and their families. In addition\, all Veterans&#39\; vehicles will be washed FREE on Veterans Day\, November 11th. Where: JAX KAR WASH\, formerly ClearSunset Car Wash &amp\; Detail Center Hours: Monday through Saturday 8:00am to 6:00pm\; Sunday 8:00am to 5:00 pm www.jaxkarwashfl.com 941.746.9274 www.hfotusa.org
LOCATION:Jax Kar Wash\, formerly ClearSunset Car Wash 6415 SR-64 East Bradenton\, FL
UID:e.2475.27288
SEQUENCE:3
DTSTAMP:20260420T091720Z
URL:https://business.manateechamber.com/events/details/jax-kar-wash-and-homes-for-our-troops-fundraiser-27288
END:VEVENT

END:VCALENDAR
