BEGIN:VCALENDAR
VERSION:2.0
PRODID:-//ChamberMaster//Event Calendar 2.0//EN
METHOD:PUBLISH
X-PUBLISHED-TTL:P3D
REFRESH-INTERVAL:P3D
CALSCALE:GREGORIAN
BEGIN:VEVENT
DTSTART:20220504T130000Z
DTEND:20220504T170000Z
X-MICROSOFT-CDO-ALLDAYEVENT:FALSE
SUMMARY:Job Fair
DESCRIPTION:The School District of Manatee will be hosting a Support Staff Job Fair on Wednesday\, May 4 from 9am - 1pm at the Wakeland Support Center 1812 27th St. E. Bradenton.\n\nNow hiring for Bus Drivers\, Bus Attendants\, Cafeteria Managers\, Food Service Workers\, Custodians and Vehicle Mechanics. Apply today at ManateeSchools.net click on "Careers"
X-ALT-DESC;FMTTYPE=text/html:The School District of Manatee will be hosting a Support Staff Job Fair on Wednesday\, May 4 from 9am - 1pm at the Wakeland Support Center 1812 27th St. E. Bradenton.<br />\nNow hiring for Bus Drivers\, Bus Attendants\, Cafeteria Managers\, Food Service Workers\, Custodians and Vehicle Mechanics. Apply today at ManateeSchools.net click on &quot\;Careers&quot\;
LOCATION:Wakeland Support Center 1812 27th St. E. Bradenton
UID:e.2475.35405
SEQUENCE:3
DTSTAMP:20260422T140255Z
URL:https://business.manateechamber.com/events/details/job-fair-05-04-2022-35405
END:VEVENT

END:VCALENDAR
