BEGIN:VCALENDAR
VERSION:2.0
PRODID:-//ChamberMaster//Event Calendar 2.0//EN
METHOD:PUBLISH
X-PUBLISHED-TTL:P3D
REFRESH-INTERVAL:P3D
CALSCALE:GREGORIAN
BEGIN:VEVENT
DTSTART:20220609T130000Z
DTEND:20220609T170000Z
X-MICROSOFT-CDO-ALLDAYEVENT:FALSE
SUMMARY:Job Fair
DESCRIPTION:The School District of Manatee County is hosting a Support Staff Job Fair on Thursdays\, June 9\, 16\, 23 and 30 from 9AM - 1PM at the Wakeland Support Center 1812 27th St. E.\, Bradenton. Now hiring for Bus Drivers and Attendants\, Food Service Workers and Cafeteria Managers\, Custodial and Vehicle Mechanics. Apply today at www.ManateeSchools.net\, click on "Careers".
X-ALT-DESC;FMTTYPE=text/html:The School District of Manatee County is hosting a Support Staff Job Fair on Thursdays\, June 9\, 16\, 23 and 30 from 9AM - 1PM at the Wakeland Support Center 1812 27th St. E.\, Bradenton. Now hiring for Bus Drivers and Attendants\, Food Service Workers and Cafeteria Managers\, Custodial and Vehicle Mechanics. Apply today at www.ManateeSchools.net\, click on &quot\;Careers&quot\;.
LOCATION:Wakeland Support Center 1812 27th St. E. Bradenton
UID:e.2475.35480
SEQUENCE:3
DTSTAMP:20260422T140312Z
URL:https://business.manateechamber.com/events/details/job-fair-06-09-2022-35480
END:VEVENT

END:VCALENDAR
