BEGIN:VCALENDAR
VERSION:2.0
PRODID:-//ChamberMaster//Event Calendar 2.0//EN
METHOD:PUBLISH
X-PUBLISHED-TTL:P3D
REFRESH-INTERVAL:P3D
CALSCALE:GREGORIAN
BEGIN:VEVENT
DTSTART:20220507T150000Z
DTEND:20220508T030000Z
X-MICROSOFT-CDO-ALLDAYEVENT:FALSE
SUMMARY:Kentucky Derby and Hat Contest at Mattison's Riverwalk Grille
DESCRIPTION:The 148th Run for the Roses\, better known as the Kentucky Derby\, is the most exciting 2 minutes in sports! Join us on Saturday\, May 7th at any of the three Mattison's Restaurants as we celebrate with Derby themed menu items and drinks. With a wide selection of bourbons\, whiskeys\, and other spirits\, a good time is guaranteed even if your horse doesn't win\, place or show.\n\n \n\nThere will be a hat contest at each Mattison's restaurant. Everyone is welcome to enter. There is no cost to enter. The winner will be chosen by the staff and management and will receive a $50.00 gift card valid at any Mattison's Restaurant.  \n\n \n\nThe Main Race starts at 6:50 but the party goes on all day!  \n\nHat winners will be announced shortly before the race starts. \n\n \n\nMattison's will have all their televisions tuned to the Derby. \n\n \n\nFor more information and reservations contact your favorite Mattison's restaurant or visit mattisons.com.
X-ALT-DESC;FMTTYPE=text/html:<span style="color:#403F42"><span style="font-family:arial\,sans-serif"><span style="font-size:12.0pt">The 148<sup>th</sup> Run for the Roses\, better known as the Kentucky Derby\, is the most exciting 2 minutes in sports! Join us on Saturday\, May 7th at any of the three Mattison&#39\;s Restaurants as we celebrate with Derby themed menu items and drinks. With a wide selection of bourbons\, whiskeys\, and other spirits\, a good time is guaranteed even if your horse doesn&rsquo\;t win\, place or show.</span></span></span><br />\n&nbsp\;<br />\n<span style="color:#403F42"><span style="font-family:arial\,sans-serif"><span style="font-size:12.0pt">There will be a hat contest at each Mattison&#39\;s restaurant. Everyone is welcome to enter. There is no cost to enter. The winner will be chosen by the staff and management and will receive a $50.00 gift card valid at any Mattison&rsquo\;s Restaurant. &nbsp\;</span></span></span><br />\n&nbsp\;<br />\n<strong><span style="color:#403F42"><span style="font-family:arial\,sans-serif"><span style="font-size:12.0pt">The Main Race starts at 6:50 but the party goes on all day! &nbsp\;</span></span></span></strong><br />\n<strong><span style="color:#403F42"><span style="font-family:arial\,sans-serif"><span style="font-size:12.0pt">Hat winners will be announced shortly before the race starts. </span></span></span></strong><br />\n&nbsp\;<br />\n<span style="color:#403F42"><span style="font-family:arial\,sans-serif"><span style="font-size:12.0pt">Mattison&rsquo\;s will have all their televisions tuned to the Derby. </span></span></span><br />\n&nbsp\;<br />\n<span style="color:#403F42"><span style="font-family:arial\,sans-serif"><span style="font-size:12.0pt">For more information and reservations contact your favorite Mattison&rsquo\;s restaurant or visit mattisons.com. </span></span></span>\n<div style="background:white\; border:none\; padding:0in 0in 1.0pt 0in">&nbsp\;</div>\n
LOCATION:101 Riverwalk Blvd. Bradenton\, FL 34205 941-896-9660
UID:e.2475.35394
SEQUENCE:3
DTSTAMP:20260422T143604Z
URL:https://business.manateechamber.com/events/details/kentucky-derby-and-hat-contest-at-mattison-s-riverwalk-grille-35394
END:VEVENT

END:VCALENDAR
