BEGIN:VCALENDAR
VERSION:2.0
PRODID:-//ChamberMaster//Event Calendar 2.0//EN
METHOD:PUBLISH
X-PUBLISHED-TTL:P3D
REFRESH-INTERVAL:P3D
CALSCALE:GREGORIAN
BEGIN:VEVENT
DTSTART:20170826T141500Z
DTEND:20170826T150000Z
X-MICROSOFT-CDO-ALLDAYEVENT:FALSE
SUMMARY:KidSpace -at- Bishop Planetarium
DESCRIPTION:From 10:15-11 a.m. every Saturday: A new Bishop Planetarium program for kids who want to explore everything there is to know about space and become Masters of the Universe. During the summer\, the program includes a discussion about the rest of the space "stuff" that makes up our solar system. Upcoming topics: Aug. 26: Vesta
X-ALT-DESC;FMTTYPE=text/html:From 10:15-11 a.m. every Saturday: A new Bishop Planetarium program for kids who want to explore everything there is to know about space and become Masters of the Universe. During the summer\, the program includes a discussion about the rest of the space &ldquo\;stuff&rdquo\; that makes up our solar system. Upcoming topics: Aug. 26: Vesta
LOCATION:South Florida Museum\, 201 10th St. W.\, Bradenton
UID:e.2475.14028
SEQUENCE:3
DTSTAMP:20260421T041157Z
URL:https://business.manateechamber.com/events/details/kidspace-at-bishop-planetarium-08-26-2017-14028
END:VEVENT

END:VCALENDAR
