BEGIN:VCALENDAR
VERSION:2.0
PRODID:-//ChamberMaster//Event Calendar 2.0//EN
METHOD:PUBLISH
X-PUBLISHED-TTL:P3D
REFRESH-INTERVAL:P3D
CALSCALE:GREGORIAN
BEGIN:VEVENT
DTSTART:20260425T130000Z
DTEND:20260425T160000Z
X-MICROSOFT-CDO-ALLDAYEVENT:FALSE
SUMMARY:Lakewood Ranch - Sarasota Elks #2855 Vendor Fair
DESCRIPTION:Join us for the Lakewood Ranch Sarasota Elks #2855 Vendor Fair on Saturday\, April 25th from 9:00 AM to 12:00 PM! This community-focused event is a great opportunity to shop local vendors\, connect with individuals\, and support meaningful causes.\n\nVendors can reserve a table for just $30 (includes two chairs)\, making it an affordable way to showcase products and services.\n\nAttendees will also enjoy a free estate planning attorney and financial planning advisor seminar beginning at 10:30 AM (approximately 40 minutes)\, along with light bites provided during the event.\n\nIn addition\, we'll be hosting a food drive in support of EFELT\, so guests are encouraged to bring non-perishable donations.\n\nProceeds from the vendor fair will benefit Jackson's Gift and EFELT\, helping make a positive impact in the community.\n\nWe look forward to seeing you there!
X-ALT-DESC;FMTTYPE=text/html:<p><span style="color:#000000"><span style="font-size:16px"><span style="font-family:arial\,helvetica\,sans-serif">Join us for the Lakewood Ranch&ndash\;Sarasota Elks #2855 Vendor Fair on Saturday\, April 25th from 9:00 AM to 12:00 PM! This community-focused event is a great opportunity to shop local vendors\, connect with individuals\, and support meaningful causes.</span></span></span></p>\n\n<p><span style="color:#000000"><span style="font-size:16px"><span style="font-family:arial\,helvetica\,sans-serif">Vendors can reserve a table for just $30 (includes two chairs)\, making it an affordable way to showcase products and services.</span></span></span></p>\n\n<p><span style="color:#000000"><span style="font-size:16px"><span style="font-family:arial\,helvetica\,sans-serif">Attendees will also enjoy a free estate planning attorney and financial planning advisor seminar beginning at 10:30 AM (approximately 40 minutes)\, along with light bites provided during the event.</span></span></span></p>\n\n<p><span style="color:#000000"><span style="font-size:16px"><span style="font-family:arial\,helvetica\,sans-serif">In addition\, we&rsquo\;ll be hosting a food drive in support of EFELT\, so guests are encouraged to bring non-perishable donations.</span></span></span></p>\n\n<p><span style="color:#000000"><span style="font-size:16px"><span style="font-family:arial\,helvetica\,sans-serif">Proceeds from the vendor fair will benefit Jackson&rsquo\;s Gift and EFELT\, helping make a positive impact in the community.</span></span></span></p>\n\n<p><span style="color:#000000"><span style="font-size:16px"><span style="font-family:arial\,helvetica\,sans-serif">We look forward to seeing you there!</span></span></span></p>\n
LOCATION:Lakewood Ranch - Sarasota Elks #2855 4602 Lena Rd. Bradenton\, FL 34211
UID:e.2475.53546
SEQUENCE:3
DTSTAMP:20260421T082920Z
URL:https://business.manateechamber.com/events/details/lakewood-ranch-sarasota-elks-2855-vendor-fair-53546
END:VEVENT

END:VCALENDAR
