BEGIN:VCALENDAR
VERSION:2.0
PRODID:-//ChamberMaster//Event Calendar 2.0//EN
METHOD:PUBLISH
X-PUBLISHED-TTL:P3D
REFRESH-INTERVAL:P3D
CALSCALE:GREGORIAN
BEGIN:VEVENT
DTSTART:20220806T220000Z
DTEND:20220807T020000Z
X-MICROSOFT-CDO-ALLDAYEVENT:FALSE
SUMMARY:Laser Night Lights at the Bishop: AC/DC vs Guns 'N' Roses or Aerosmith
DESCRIPTION:Let's get ready to rock!\n\nFood and drink service will be available with cash or card from 6:00 PM   9:00 PM.\n\nLaser Light Nights merchandise will be available for purchase with credit card ONLY before and after the show.\n\nTheatre doors open 30 minutes prior to show time. Doors close promptly at show time\, no late entry.\n\nEating\, drinking\, and smoking are strictly prohibited in the theatre.\n\nNo video or photography are permitted during the show.\n\nWARNING: Laser light shows contain flashing lights and images that may not be safe for those with photosensitive epilepsy.
X-ALT-DESC;FMTTYPE=text/html:<h2 color:="" font-size:="" line-height:="" margin-bottom:="" margin-top:="" overflow-wrap:="" pt="" style="box-sizing: border-box\; font-family: "><span style="color:#0000FF\;"><span style="box-sizing: border-box\; font-weight: 700\;">Let&rsquo\;s get ready to rock!</span></span></h2>\n\n<p pt="" style="box-sizing: border-box\; margin: 0px 0px 10px\; overflow-wrap: break-word\; color: rgb(119\, 119\, 119)\; font-size: 15px\; line-height: 26px\; font-family: ">Food and drink service will be available with cash or card from 6:00 PM &ndash\; 9:00 PM.</p>\n\n<p pt="" style="box-sizing: border-box\; margin: 0px 0px 10px\; overflow-wrap: break-word\; color: rgb(119\, 119\, 119)\; font-size: 15px\; line-height: 26px\; font-family: ">Laser Light Nights merchandise will be available for purchase with credit card ONLY before and after the show.</p>\n\n<p pt="" style="box-sizing: border-box\; margin: 0px 0px 10px\; overflow-wrap: break-word\; color: rgb(119\, 119\, 119)\; font-size: 15px\; line-height: 26px\; font-family: ">Theatre doors open 30 minutes prior to show time. Doors close promptly at show time\, no late entry.</p>\n\n<p pt="" style="box-sizing: border-box\; margin: 0px 0px 10px\; overflow-wrap: break-word\; color: rgb(119\, 119\, 119)\; font-size: 15px\; line-height: 26px\; font-family: ">Eating\, drinking\, and smoking are strictly prohibited in the theatre.</p>\n\n<p pt="" style="box-sizing: border-box\; margin: 0px 0px 10px\; overflow-wrap: break-word\; color: rgb(119\, 119\, 119)\; font-size: 15px\; line-height: 26px\; font-family: ">No video or photography are permitted during the show.</p>\n\n<p pt="" style="box-sizing: border-box\; margin: 0px 0px 10px\; overflow-wrap: break-word\; color: rgb(119\, 119\, 119)\; font-size: 15px\; line-height: 26px\; font-family: "><em style="box-sizing: border-box\;">WARNING: Laser light shows contain flashing lights and images that may not be safe for those with photosensitive epilepsy.</em></p>\n
LOCATION:The Bishop Museum of Science and Nature
UID:e.2475.37383
SEQUENCE:3
DTSTAMP:20260419T203700Z
URL:https://business.manateechamber.com/events/details/laser-night-lights-at-the-bishop-ac-dc-vs-guns-n-roses-or-aerosmith-37383
END:VEVENT

END:VCALENDAR
