BEGIN:VCALENDAR
VERSION:2.0
PRODID:-//ChamberMaster//Event Calendar 2.0//EN
METHOD:PUBLISH
X-PUBLISHED-TTL:P3D
REFRESH-INTERVAL:P3D
CALSCALE:GREGORIAN
BEGIN:VEVENT
DTSTART:20220506T123000Z
DTEND:20220506T190000Z
X-MICROSOFT-CDO-ALLDAYEVENT:FALSE
SUMMARY:LEADERSHIP BOOT CAMP - ZOOM - SCF
DESCRIPTION:LEADERSHIP BOOT CAMP - SCF\n\nA workshop for enlightened leaders. Participants will enhance leadership skills\, expand communication techniques\, master laser-focus positive actions\, manage time more effectively and spike personal effectiveness to deliver world-class results. Facilitated by Doug Van Dyke\, CEO of Leadership Simplified.\n\n\n\nAgenda highlights include but not limited to:\n\n\n\n\n	Priority Management\n	Communication Skills\n	Collaboration Tools\n	Time Management\n\n\n\n\n\n	Delegation\n	Presentation Skills\n	Effective Meetings\n	Motivation & Celebration \n\n\n\n\nSpecial Note: This class will be facilitated remotely via ZOOM. The instructor will send you a link to join the training. \n\nMay 6\, 2022\n\n8:30am - 3pm\n\nFee: $199\n\nVia Zoom\n\n\n\nRegister Here.
X-ALT-DESC;FMTTYPE=text/html:<p><strong>LEADERSHIP BOOT CAMP - SCF</strong></p>\n\n<p>A workshop for enlightened leaders. Participants will enhance leadership skills\, expand communication techniques\, master laser-focus positive actions\, manage time more effectively and spike personal effectiveness to deliver world-class results. Facilitated by Doug Van Dyke\, CEO of Leadership Simplified.<br />\n<br />\nAgenda highlights include but not limited to:</p>\n\n<div style="margin-left:calc(-0.5*var(--bs-gutter-x))\; margin-right:calc(-0.5*var(--bs-gutter-x))">\n<div>\n<ul>\n	<li>Priority Management</li>\n	<li>Communication Skills</li>\n	<li>Collaboration Tools</li>\n	<li>Time Management</li>\n</ul>\n</div>\n\n<div>\n<ul>\n	<li>Delegation</li>\n	<li>Presentation Skills</li>\n	<li>Effective Meetings</li>\n	<li>Motivation &amp\; Celebration&nbsp\;</li>\n</ul>\n</div>\n</div>\n\n<p>Special Note:&nbsp\;This class will be facilitated remotely via ZOOM. The instructor&nbsp\;will send you a link to join the training.&nbsp\;</p>\n\n<p>May 6\, 2022</p>\n\n<p>8:30am - 3pm</p>\n\n<p>Fee: $199</p>\n\n<p>Via Zoom<br />\n<br />\n<a href="https://scf.augusoft.net/index.cfm?method=ClassInfo.ClassInformation&amp\;int_class_id=14287&amp\;int_category_id=3&amp\;int_sub_category_id=110&amp\;int_catalog_id=0">Register Here.</a></p>\n
LOCATION:Via Zoom
UID:e.2475.33606
SEQUENCE:3
DTSTAMP:20260422T144808Z
URL:https://business.manateechamber.com/events/details/leadership-boot-camp-zoom-scf-05-06-2022-33606
END:VEVENT

END:VCALENDAR
