BEGIN:VCALENDAR
VERSION:2.0
PRODID:-//ChamberMaster//Event Calendar 2.0//EN
METHOD:PUBLISH
X-PUBLISHED-TTL:P3D
REFRESH-INTERVAL:P3D
CALSCALE:GREGORIAN
BEGIN:VEVENT
DTSTART:20220722T120000Z
DTEND:20220722T210000Z
X-MICROSOFT-CDO-ALLDAYEVENT:FALSE
SUMMARY:LEADING A HYBRID WORKFORCE (THE ROAD TO EFFECTIVE LEADERSHIP IN THE NEW NORMAL) at SCF via ZOOM
DESCRIPTION:LEADING A HYBRID WORKFORCE (THE ROAD TO EFFECTIVE LEADERSHIP IN THE NEW NORMAL) at SCF via ZOOM\n\n\n\nThe workplace has changed. Savvy leaders and organizations are upskilling and reskilling to be agile and stay ahead of their competition. Stay at the top of your game by enhancing your ability to effectively lead a hybrid workforce.\n\nParticipants will learn the nuances of leading hybrid teams\; enhance their leadership skills\; expand hybrid communication techniques\; elevate their ability to help hybrid and virtual team members stay engaged.\n\n\n           What you'll learn:\n\n\n	How to best communicate in a hybrid work world\n	How to map expectations in a manner that enhances collaboration\n	How to conduct effective in-person\, virtual & hybrid meetings\n	How to enhance and maintain your organization's culture in a hybrid world\n	How to lead five generations in the hybrid workplace\n	How to align priorities that maximize execute\n	How to plan actions and best manage your hybrid leaders\n	How to practice and implement everything you learn and have some fun in the process.\n\n\n \n \n\nEvent Delivered via ZOOM!\n\nThis virtual experience allows ANYONE to participate in a one-day leadership intensive\n\n\n\nCost: $299 per person
X-ALT-DESC;FMTTYPE=text/html:LEADING A HYBRID WORKFORCE (THE ROAD TO EFFECTIVE LEADERSHIP IN THE NEW NORMAL) at SCF via ZOOM<br />\n<br />\n<span style="color:rgb(79\, 79\, 79)\; font-family:arial\,helvetica\,sans-serif\; font-size:14px">The workplace has changed. Savvy leaders and organizations are upskilling and reskilling to be agile and stay ahead of their competition. Stay at the top of your game by enhancing your ability to effectively lead&nbsp\;a hybrid workforce.<br />\nParticipants will learn the nuances of leading hybrid teams\; enhance their leadership skills\; expand hybrid communication techniques\; elevate their ability to help hybrid and virtual team members stay engaged.</span>\n<div><br />\n<span style="font-size:14px"><strong>&nbsp\; &nbsp\; &nbsp\; &nbsp\; &nbsp\; &nbsp\;What you&rsquo\;ll learn:</strong></span></div>\n\n<ul>\n	<li>How to best communicate in a hybrid work world</li>\n	<li><span style="font-size:14px">How to map expectations in a manner that enhances collaboration</span></li>\n	<li><span style="font-size:14px">How to conduct effective in-person\, virtual &amp\; hybrid meetings</span></li>\n	<li><span style="font-size:14px">How to enhance and maintain your organization&rsquo\;s culture in a hybrid world</span></li>\n	<li><span style="font-size:14px">How to lead five generations in the hybrid workplace</span></li>\n	<li><span style="font-size:14px">How to align priorities that maximize execute</span></li>\n	<li><span style="font-size:14px">How to plan actions and best manage your hybrid leaders</span></li>\n	<li><span style="font-size:14px">How to practice and implement everything you learn&nbsp\;and have some fun in the process.</span></li>\n</ul>\n\n<div>&nbsp\;</div>\n<span style="color:rgb(79\, 79\, 79)\; font-family:arial\,helvetica\,sans-serif\; font-size:14.4px">&nbsp\;</span>\n\n<div style="text-align:center"><span style="font-size:14px"><strong>Event Delivered via ZOOM!</strong></span></div>\n\n<div style="text-align:center"><span style="font-size:14px">This virtual experience allows ANYONE to participate in a one-day leadership intensive<br />\n<br />\nCost: $299 per person</span></div>\n
LOCATION:ZOOM
UID:e.2475.35703
SEQUENCE:3
DTSTAMP:20260422T162250Z
URL:https://business.manateechamber.com/events/details/leading-a-hybrid-workforce-the-road-to-effective-leadership-in-the-new-normal-at-scf-via-zoom-35703
END:VEVENT

END:VCALENDAR
