BEGIN:VCALENDAR
VERSION:2.0
PRODID:-//ChamberMaster//Event Calendar 2.0//EN
METHOD:PUBLISH
X-PUBLISHED-TTL:P3D
REFRESH-INTERVAL:P3D
CALSCALE:GREGORIAN
BEGIN:VEVENT
DTSTART:20200415T160000Z
DTEND:20200415T170000Z
X-MICROSOFT-CDO-ALLDAYEVENT:FALSE
SUMMARY:Leave It\, Move It\, Roll It Or Take It: Know Your Employer Retirement Plan Options Webinar
DESCRIPTION:Join us for Leave It\, Move It\, Roll It\, Take It: Know Your Employer Retirement Plan Options and learn:\n\n\n	The most common distribution options\n	How to avoid having the IRS withhold 20% of your retirement distribution\n	How taxes\, penalties and investment options factor into your decision
X-ALT-DESC;FMTTYPE=text/html:<p>Join us for <em>Leave It\, Move It\, Roll It\, Take It: Know Your Employer Retirement Plan Options </em>and learn:</p>\n\n<ol>\n	<li>The most common distribution options</li>\n	<li>How to avoid having the IRS withhold 20% of your retirement distribution</li>\n	<li>How taxes\, penalties and investment options factor into your decision</li>\n</ol>\n
LOCATION:Click on link to JOIN WEBEX MEETING https://ej.webex.com/ej/j.php?MTID=mc3fc1d26e590dc468683f00e8b933e2e Meeting number: 285 170 619 Meeting password: edwardjones JOIN BY PHONE Call 866-217-8584 and use 648901 as passcode.
UID:e.2475.28952
SEQUENCE:3
DTSTAMP:20260421T234619Z
URL:https://business.manateechamber.com/events/details/leave-it-move-it-roll-it-or-take-it-know-your-employer-retirement-plan-options-webinar-28952
END:VEVENT

END:VCALENDAR
