BEGIN:VCALENDAR
VERSION:2.0
PRODID:-//ChamberMaster//Event Calendar 2.0//EN
METHOD:PUBLISH
X-PUBLISHED-TTL:P3D
REFRESH-INTERVAL:P3D
CALSCALE:GREGORIAN
BEGIN:VEVENT
DTSTART:20240127T150000Z
DTEND:20240127T211500Z
X-MICROSOFT-CDO-ALLDAYEVENT:FALSE
SUMMARY:Manatee Genealogical Society
DESCRIPTION:Finding Your Elusive Ancestor Virtual Seminar with Four Fantastic Speakers! Steve Little\, "A.I. and Genealogy: The Basics and a Bit Beyond" David Allen Lambert\, "Adopting the Regiment: Researching & Recreating Your Ancestor's Revolutionary War Unit." Diana Elder\, AGR\, "Who's Her Daddy? Testing an Ancestry DNA Thruline Hypothesis for a Female Ancestor" Nicole Dyer\, "Strategies for Overcoming Genealogy Roadblocks"
X-ALT-DESC;FMTTYPE=text/html:Finding Your Elusive Ancestor Virtual Seminar with Four Fantastic Speakers! Steve Little\, &quot\;A.I. and Genealogy: The Basics and a Bit Beyond&quot\; David Allen Lambert\, &quot\;Adopting the Regiment: Researching &amp\; Recreating Your Ancestor&#39\;s Revolutionary War Unit.&quot\; Diana Elder\, AGR\, &quot\;Who&#39\;s Her Daddy? Testing an Ancestry DNA Thruline Hypothesis for a Female Ancestor&quot\; Nicole Dyer\, &quot\;Strategies for Overcoming Genealogy Roadblocks&quot\;
LOCATION:Virtual Seminar https://mgsfl.org/.
UID:e.2475.44624
SEQUENCE:3
DTSTAMP:20260420T085125Z
URL:https://business.manateechamber.com/events/details/manatee-genealogical-society-44624
END:VEVENT

END:VCALENDAR
