BEGIN:VCALENDAR
VERSION:2.0
PRODID:-//ChamberMaster//Event Calendar 2.0//EN
METHOD:PUBLISH
X-PUBLISHED-TTL:P3D
REFRESH-INTERVAL:P3D
CALSCALE:GREGORIAN
BEGIN:VEVENT
DTSTART:20181106T003000Z
DTEND:20181106T013000Z
X-MICROSOFT-CDO-ALLDAYEVENT:FALSE
SUMMARY:Model Investment Club Meeting
DESCRIPTION:Welcome to the BetterInvesting Space Coast/Gulf Coast Model Investment Club. Our club members are drawn from the over 800 BetterInvesting members living in the Central Florida area of responsibility\, that covers the central swath of Florida from the Atlantic to the Gulf coasts. Our Volunteers are similarly dispersed so to make this work we are an online club ...
X-ALT-DESC;FMTTYPE=text/html:Welcome to the BetterInvesting Space Coast/Gulf Coast Model Investment Club. Our club members are drawn from the over 800 BetterInvesting members living in the Central Florida area of responsibility\, that covers the central swath of Florida from the Atlantic to the Gulf coasts. Our Volunteers are similarly dispersed so to make this work we are an online club ...
LOCATION:Online via GoToWebinar - registration link is below
UID:e.2475.24173
SEQUENCE:3
DTSTAMP:20260423T165351Z
URL:https://business.manateechamber.com/events/details/model-investment-club-meeting-24173
END:VEVENT

END:VCALENDAR
