BEGIN:VCALENDAR
VERSION:2.0
PRODID:-//ChamberMaster//Event Calendar 2.0//EN
METHOD:PUBLISH
X-PUBLISHED-TTL:P3D
REFRESH-INTERVAL:P3D
CALSCALE:GREGORIAN
BEGIN:VEVENT
DTSTART:20220822T220000Z
DTEND:20220823T020000Z
X-MICROSOFT-CDO-ALLDAYEVENT:FALSE
SUMMARY:Monday Night's with The Fulco's
DESCRIPTION:Come down and enjoy life music\, food and drinks on the river!
X-ALT-DESC;FMTTYPE=text/html:Come down and enjoy life music\, food and drinks on the river!
LOCATION:Woody's River Roo woodysriverroo.com 5717 18th St E\, Ellenton\, FL 34222
UID:e.2475.40357
SEQUENCE:3
DTSTAMP:20260419T195218Z
URL:https://business.manateechamber.com/events/details/monday-night-s-with-the-fulco-s-40357
END:VEVENT

END:VCALENDAR
