BEGIN:VCALENDAR
VERSION:2.0
PRODID:-//ChamberMaster//Event Calendar 2.0//EN
METHOD:PUBLISH
X-PUBLISHED-TTL:P3D
REFRESH-INTERVAL:P3D
CALSCALE:GREGORIAN
BEGIN:VEVENT
DTSTART:20220503T210000Z
DTEND:20220503T230000Z
X-MICROSOFT-CDO-ALLDAYEVENT:FALSE
SUMMARY:Murder at the Juice Joint presented by DraMature
DESCRIPTION:A night of mystery and intrigue in the wild and romantic era of the roaring 20's!\n\nWith the passing of prohibition and organized crime on the rise\, The Juice Joint\, a swanky speakeasy run by Rosie Marie\, has been nothing but jumping. To celebrate its success\, Rosie is planning a party to remember at the exclusive nightspot  and you are invited!\n\nHowever\, one of the names on the guest list is also on another's hit list  and no one is safe from the consequences.\n\nWith murder on the menu\, you are certain to find a medley of individuals to make the night most memorable. From major mobsters and their molls to the swanky singer with her hopes at Hollywood. The cigarette girl with a temper that sizzles to the crooked police chief with nothing to lose no one is safe from murder but everyone will have a chance at solving it.\n\nWill the culprit be the Mayor who is capable of murder?\n\nThe blacklisted bootlegger desperate to increase their sales?\n\nOr possibly the director with a shot at making history?\n\nJoin the mystery and BE part of the show!\n\nCostumes are strongly encouraged
X-ALT-DESC;FMTTYPE=text/html:<p>A night of mystery and intrigue in the wild and romantic era of the roaring 20&rsquo\;s!</p>\n\n<p>With the passing of prohibition and organized crime on the rise\, The Juice Joint\, a swanky speakeasy run by Rosie Marie\, has been nothing but jumping. To celebrate its success\, Rosie is planning a party to remember at the exclusive nightspot&hellip\; and you are invited!</p>\n\n<p>However\, one of the names on the guest list is also on another&rsquo\;s hit list&hellip\; and no one is safe from the consequences.</p>\n\n<p>With murder on the menu\, you are certain to find a medley of individuals to make the night most memorable. From major mobsters and their molls to the swanky singer with her hopes at Hollywood. The cigarette girl with a temper that sizzles to the crooked police chief with nothing to lose&mdash\;no one is safe from murder&hellip\;but everyone will have a chance at solving it.</p>\n\n<p>Will the culprit be the Mayor who is capable of murder?</p>\n\n<p>The blacklisted bootlegger desperate to increase their sales?</p>\n\n<p>Or possibly the director with a shot at making history?</p>\n\n<p>Join the mystery and <strong>BE</strong> part of the show!</p>\n\n<p><em>Costumes are strongly encouraged</em></p>\n
LOCATION:Manatee Performing Arts Center 502 Third Avenue West Bradenton\, FL 34205 The performance will be the lobby gallery Additional FREE Parking 402 7th Street West Bradenton\, FL 34205
UID:e.2475.34954
SEQUENCE:3
DTSTAMP:20260422T184515Z
URL:https://business.manateechamber.com/events/details/murder-at-the-juice-joint-presented-by-dramature-34954
END:VEVENT

END:VCALENDAR
