BEGIN:VCALENDAR
VERSION:2.0
PRODID:-//ChamberMaster//Event Calendar 2.0//EN
METHOD:PUBLISH
X-PUBLISHED-TTL:P3D
REFRESH-INTERVAL:P3D
CALSCALE:GREGORIAN
BEGIN:VEVENT
DTSTART:20220827T180000Z
DTEND:20220827T200000Z
X-MICROSOFT-CDO-ALLDAYEVENT:FALSE
SUMMARY:Music on the Porch
DESCRIPTION:In celebration of the Cortez Grand Ole Opry and the rich musical heritage of Cortez\, FMM has partnered with the Cortez Cultural Center to host Music on the Porch. \n\n2nd & 4th Saturdays\n\n2 pm 4 pm \n\nThis FREE music event series is held on the second and fourth Saturday of every month at the Bratton Store Porch. The jam session begins at 2 pm and continues until 4 pm. Children and adults are welcome. Audience members should bring a chair. Parking is available in the museum lot.\n\nCome enjoy the music\, or bring an acoustic instrument and play along!\n\n??Keep in mind that Music on the Porch is a jam session\, so music is not guaranteed. Musician participation varies.
X-ALT-DESC;FMTTYPE=text/html:<p><span style="font-family:wfont_890b23_426df26dcb0b424cb75b468639514ed0\,wf_426df26dcb0b424cb75b46863\,orig_unitext_light"><span style="color:rgb(0\, 61\, 107)">In celebration of the Cortez Grand Ole Opry and the rich musical heritage of Cortez\, FMM has partnered with the&nbsp\;<a href="https://www.cortezvillagehistoricalsociety.org/" rel="noopener" style="margin: 0px\; padding: 0px\; border: 0px\; outline: 0px\; vertical-align: baseline\; background: transparent\; cursor: pointer\; text-decoration-line: none\; color: inherit\;" target="_blank">Cortez Cultural Center</a>&nbsp\;to host&nbsp\;<strong>Music on the Porch.</strong>&nbsp\;</span></span></p>\n\n<p><strong><span style="color:rgb(0\, 61\, 107)\; font-family:wfont_890b23_7f0dc692555b40b1853d49c2f4badf56\,wf_7f0dc692555b40b1853d49c2f\,orig_unitext_semibold">2nd &amp\; 4th Saturdays</span></strong></p>\n\n<p><strong><span style="color:rgb(0\, 61\, 107)\; font-family:wfont_890b23_7f0dc692555b40b1853d49c2f4badf56\,wf_7f0dc692555b40b1853d49c2f\,orig_unitext_semibold">2 pm&ndash\;4 pm&nbsp\;</span></strong></p>\n\n<p><span style="color:rgb(0\, 61\, 107)\; font-family:wfont_890b23_426df26dcb0b424cb75b468639514ed0\,wf_426df26dcb0b424cb75b46863\,orig_unitext_light">This FREE music event series is held on the second and fourth Saturday of every month at the Bratton Store Porch. The jam session begins at 2 pm and continues until 4 pm. Children and adults are welcome. Audience members should bring a chair. Parking is available in the museum lot.</span></p>\n\n<p><strong><span style="font-family:wfont_890b23_426df26dcb0b424cb75b468639514ed0\,wf_426df26dcb0b424cb75b46863\,orig_unitext_light"><span style="color:rgb(0\, 61\, 107)">Come enjoy the music\, or bring an acoustic instrument and play along!</span></span></strong></p>\n\n<p><span style="font-family:wfont_890b23_426df26dcb0b424cb75b468639514ed0\,wf_426df26dcb0b424cb75b46863\,orig_unitext_light"><span style="color:rgb(0\, 61\, 107)">?</span></span><span style="color:rgb(0\, 163\, 221)\; font-family:wfont_890b23_426df26dcb0b424cb75b468639514ed0\,wf_426df26dcb0b424cb75b46863\,orig_unitext_light">?</span><strong>Keep in mind that Music on the Porch is a jam session\, so music is not guaranteed. Musician participation varies.</strong></p>\n
LOCATION:Florida Maritime Museum 4415 119th Street West\, Cortez\, FL 34215
UID:e.2475.34505
SEQUENCE:3
DTSTAMP:20260419T201513Z
URL:https://business.manateechamber.com/events/details/music-on-the-porch-08-27-2022-34505
END:VEVENT

END:VCALENDAR
