BEGIN:VCALENDAR
VERSION:2.0
PRODID:-//ChamberMaster//Event Calendar 2.0//EN
METHOD:PUBLISH
X-PUBLISHED-TTL:P3D
REFRESH-INTERVAL:P3D
CALSCALE:GREGORIAN
BEGIN:VEVENT
DTSTART:20250211T200000Z
DTEND:20250211T211500Z
X-MICROSOFT-CDO-ALLDAYEVENT:FALSE
SUMMARY:MYP Behind the Scenes - February 11\, 2025 - Manatee Performing Arts Center
DESCRIPTION:Take center stage with us for an exclusive Behind the Scenes tour of the Manatee Performing Arts Center\, a cornerstone of creativity and culture in our community for over 75 years!\n\n\n\nDiscover the magic behind the curtain as we explore the costume shop\, VIP lounge\, and other hidden gems of this unique venue and learn about their team of volunteers and the measures they have taken to make art accessible to the whole community.\n\n\n\nWhether you're a theater aficionado or just curious about the behind-the-scenes action\, this event promises a standing ovation-worthy experience. Don't miss this opportunity to step into the spotlight yourself!\n\n\n\nCost: $20 for MYP Members\, $35 for all others\n\n\n\nClosed toe shoes are required for the tour. If you must cancel your reservation\, please do so by 5:00 PM on Friday\, February 7th to receive a refund. \n\n\n\nManatee Young Professionals is a program of the Manatee Chamber and geared toward professionals in the age range of 21 - 40 years.
X-ALT-DESC;FMTTYPE=text/html:<span style="font-size:14px\;"><span style="font-family:arial\;"><span style="color:#000000\;">Take center stage with us for an exclusive Behind the Scenes tour of the Manatee Performing Arts Center\, a cornerstone of creativity and culture in our community for over 75 years!<br />\n<br />\nDiscover the magic behind the curtain as we explore the costume shop\, VIP lounge\, and other hidden gems of this unique venue and learn about their team of volunteers and the measures they have taken to make art accessible to the whole community.<br />\n<br />\nWhether you&#39\;re a theater aficionado or just curious about the behind-the-scenes action\, this event promises a standing ovation-worthy experience.&nbsp\;Don&rsquo\;t miss this opportunity to step into the spotlight yourself!<br />\n<br style="color: rgb(0\, 0\, 0)\; font-family: arial\; font-size: 14px\;" />\n<span style="background: transparent\; box-sizing: border-box\; margin: 0px\; padding: 0px\; border: 0px\; outline: 0px\; text-size-adjust: 100%\; vertical-align: baseline\; font-weight: bolder\;">Cost: $20 for MYP Members\, $35 for all others</span></span></span></span><br style="color: rgb(0\, 0\, 0)\; font-family: arial\; font-size: 14px\; box-sizing: border-box\;" />\n<br style="color: rgb(0\, 0\, 0)\; font-family: arial\; font-size: 14px\; box-sizing: border-box\;" />\n<span style="color: rgb(0\, 0\, 0)\; font-family: arial\; font-size: 14px\;">Closed toe shoes are required for the tour.&nbsp\;</span><span style="font-size:14px\;"><span style="font-family:arial\;"><span style="color:#000000\;">If you must cancel your reservation\, please do so by 5:00 PM on Friday\, February 7th to receive a refund.&nbsp\;<br style="color: rgb(0\, 0\, 0)\; font-family: arial\; font-size: 14px\; box-sizing: border-box\;" />\n<br style="color: rgb(0\, 0\, 0)\; font-family: arial\; font-size: 14px\; box-sizing: border-box\;" />\n<em style="color: rgb(0\, 0\, 0)\; font-family: arial\; font-size: 14px\; background: transparent\; box-sizing: border-box\; margin: 0px\; padding: 0px\; border: 0px\; outline: 0px\; text-size-adjust: 100%\; vertical-align: baseline\;">Manatee Young Professionals is a program of the Manatee Chamber and geared toward professionals in the age range of 21 - 40 years.</em></span></span></span>
LOCATION:Manatee Performing Arts Center 502 Third Ave. W. Bradenton\, FL 34205
UID:e.2475.50321
SEQUENCE:3
DTSTAMP:20260419T230151Z
URL:https://business.manateechamber.com/events/details/myp-behind-the-scenes-february-11-2025-manatee-performing-arts-center-50321
END:VEVENT

END:VCALENDAR
