BEGIN:VCALENDAR
VERSION:2.0
PRODID:-//ChamberMaster//Event Calendar 2.0//EN
METHOD:PUBLISH
X-PUBLISHED-TTL:P3D
REFRESH-INTERVAL:P3D
CALSCALE:GREGORIAN
BEGIN:VEVENT
DTSTART:20160302T140000Z
DTEND:20160302T200000Z
X-MICROSOFT-CDO-ALLDAYEVENT:FALSE
SUMMARY:MYP Community Service Project - Embracing Our Differences Campaign for Grade Level Reading
DESCRIPTION:Celebrate Dr. Suess' birthday by reading his rhymes to children as a part of Read Across America Day. Volunteers are needed in various Manatee County schools and only one hour is required. Those interested in volunteering are asked to register online for more information.
X-ALT-DESC;FMTTYPE=text/html:<span style="color: rgb(20\, 24\, 35)\; font-family: helvetica\, arial\, sans-serif\; font-size: 12px\; line-height: 18px\; white-space: pre-wrap\;">Celebrate Dr. Suess&#39\; birthday by reading his rhymes to children as a part of Read Across America Day. Volunteers are needed in various Manatee County schools and only one hour is required. Those interested in volunteering are asked to register online for more information. </span>
LOCATION:Various Manatee County Locations
UID:e.2475.4433
SEQUENCE:3
DTSTAMP:20260419T211609Z
URL:https://business.manateechamber.com/events/details/myp-community-service-project-embracing-our-differences-campaign-for-grade-level-reading-03-02-2016-4433
END:VEVENT

END:VCALENDAR
