BEGIN:VCALENDAR
VERSION:2.0
PRODID:-//ChamberMaster//Event Calendar 2.0//EN
METHOD:PUBLISH
X-PUBLISHED-TTL:P3D
REFRESH-INTERVAL:P3D
CALSCALE:GREGORIAN
BEGIN:VEVENT
DTSTART:20160118T160000Z
DTEND:20160118T190000Z
X-MICROSOFT-CDO-ALLDAYEVENT:FALSE
SUMMARY:MYP Community Service Project January 2016 - NAACP "Bridging the Gap"
DESCRIPTION:Our January MYP community service project is working with the NAACP on its "Bridging the Gap" event on Monday\, January 18\, 2016 from 11:00 AM   2:00 PM. This event\, held at the 13th Avenue Dream Center\, has a goal of helping bring law enforcement and our community's youth together to strengthen relationships. MYP members will help with a number of activities including registration\, handing out t-shirts\, role playing with the kids\, assisting law enforcement volunteers with activities\, etc. This is a great opportunity to reach young people in our community.
X-ALT-DESC;FMTTYPE=text/html:<div style="margin-top:6.0pt\;margin-right:0in\;margin-bottom:10.0pt\;">Our January MYP community service project is working with the NAACP on its &ldquo\;Bridging the Gap&rdquo\; event on Monday\, January 18\, 2016 from 11:00 AM &ndash\; 2:00 PM. This event\, held at the 13th Avenue Dream Center\, has a goal of helping bring law enforcement and our community&rsquo\;s youth together to strengthen relationships. MYP members will help with a number of activities including registration\, handing out t-shirts\, role playing with the kids\, assisting law enforcement volunteers with activities\, etc. This is a great opportunity to reach young people in our community.</div>\n
LOCATION:13th Avenue Dream Center 922 24th St. E. Bradenton\, FL 34208
UID:e.2475.4070
SEQUENCE:3
DTSTAMP:20260419T181015Z
URL:https://business.manateechamber.com/events/details/myp-community-service-project-january-2016-naacp-bridging-the-gap-01-18-2016-4070
END:VEVENT

END:VCALENDAR
