BEGIN:VCALENDAR
VERSION:2.0
PRODID:-//ChamberMaster//Event Calendar 2.0//EN
METHOD:PUBLISH
X-PUBLISHED-TTL:P3D
REFRESH-INTERVAL:P3D
CALSCALE:GREGORIAN
BEGIN:VEVENT
DTSTART:20221215T220000Z
DTEND:20221216T000000Z
X-MICROSOFT-CDO-ALLDAYEVENT:FALSE
SUMMARY:MYP Holiday Social - December 15\, 2022 - The Canopy Bistro + Bar
DESCRIPTION:Join us for a special holiday networking social at The Canopy Bistro + Bar in Ellenton! Be sure to wear your favorite Holiday sweater for a chance to win a door prize.\n\n\n\nMYP Socials allow young professionals to network in a casual after-hours setting. Arrive any time during the event to make new connections over appetizers and drink specials.\n\n\n\nWe'll be supporting the Salvation Army at this event. Attendees are asked to bring unwrapped toys for children ages 8-12. Visit the registry for ideas:\n\nhttps://www.walmart.com/registry/RR/a9888172-7e97-456d-9af2-d4ad79b4b82b
X-ALT-DESC;FMTTYPE=text/html:<span style="font-size:14px\;"><span style="font-family:arial\;">Join us for a special holiday networking social at The Canopy Bistro + Bar in Ellenton! Be sure to wear your favorite Holiday sweater for a chance to win a door prize.<br />\n<br />\nMYP Socials allow young professionals to network in a casual after-hours setting. Arrive any time during the even</span>t to make new connections over appetizers and drink specials.<br />\n<br />\nWe&#39\;ll be supporting the Salvation Army at this event. Attendees are asked to bring unwrapped toys for children ages 8-12. Visit the registry for ideas:<br />\nhttps://www.walmart.com/registry/RR/a9888172-7e97-456d-9af2-d4ad79b4b82b</span>
LOCATION:The Canopy Bistro + Bar 3503 US Hwy 301 Ellenton FL 34222
UID:e.2475.40488
SEQUENCE:3
DTSTAMP:20260420T162335Z
URL:https://business.manateechamber.com/events/details/myp-holiday-social-december-15-2022-the-canopy-bistro-bar-40488
END:VEVENT

END:VCALENDAR
