BEGIN:VCALENDAR
VERSION:2.0
PRODID:-//ChamberMaster//Event Calendar 2.0//EN
METHOD:PUBLISH
X-PUBLISHED-TTL:P3D
REFRESH-INTERVAL:P3D
CALSCALE:GREGORIAN
BEGIN:VEVENT
DTSTART:20160229T170000Z
DTEND:20160229T180000Z
X-MICROSOFT-CDO-ALLDAYEVENT:FALSE
SUMMARY:MYP Social Committee Meeting
DESCRIPTION:
X-ALT-DESC;FMTTYPE=text/html:
LOCATION:
UID:e.2475.4431
SEQUENCE:3
DTSTAMP:20260419T194611Z
URL:https://business.manateechamber.com/events/details/myp-social-committee-meeting-02-29-2016-4431
END:VEVENT

END:VCALENDAR
