BEGIN:VCALENDAR
VERSION:2.0
PRODID:-//ChamberMaster//Event Calendar 2.0//EN
METHOD:PUBLISH
X-PUBLISHED-TTL:P3D
REFRESH-INTERVAL:P3D
CALSCALE:GREGORIAN
BEGIN:VEVENT
DTSTART:20210603T114500Z
DTEND:20210603T130000Z
X-MICROSOFT-CDO-ALLDAYEVENT:FALSE
SUMMARY:MYPassion Professional Development Seminar with Representative Will Robinson
DESCRIPTION:Join us for this special in-person event\, including a professional development seminar with Representative Will Robinson\, and moderated by Jacki Dezelski! Don't miss this wonderful opportunity to meet young professionals over breakfast - and learn important life-skills along the way!\n\n\n\nGuest Speaker: Representative Will Robinson\, Florida House of Representatives\n\nModerated By: Jacki Dezelski\, President of the Manatee Chamber of Commerce\n\n\n\nCost: $15 for MYP Members\, $20 for all others.
X-ALT-DESC;FMTTYPE=text/html:<p><span style="font-size:14px\;"><span style="font-family:arial\;"><span style="font-weight:normal\;">Join us for this special in-person event\, including a&nbsp\;professional development seminar&nbsp\;with Representative Will Robinson\, and moderated by Jacki Dezelski! Don&rsquo\;t miss this wonderful opportunity to meet young professionals over breakfast - and learn important life-skills along the way!</span><br />\n<br />\nGuest Speaker: Representative Will Robinson\, Florida House of Representatives<br />\nModerated By: Jacki Dezelski\, President of the Manatee Chamber of Commerce<br />\n<br />\n<span style="font-weight:normal\;">Cost: $15&nbsp\;for MYP Members\, $20&nbsp\;for all others. </span></span></span></p>\n
LOCATION:Manatee Chamber of Commerce\, Downtown Air & Energy Board Room 222 10th St. W. Bradenton\, FL 34205
UID:e.2475.31602
SEQUENCE:3
DTSTAMP:20260423T141131Z
URL:https://business.manateechamber.com/events/details/mypassion-professional-development-seminar-with-representative-will-robinson-31602
END:VEVENT

END:VCALENDAR
