BEGIN:VCALENDAR
VERSION:2.0
PRODID:-//ChamberMaster//Event Calendar 2.0//EN
METHOD:PUBLISH
X-PUBLISHED-TTL:P3D
REFRESH-INTERVAL:P3D
CALSCALE:GREGORIAN
BEGIN:VEVENT
DTSTART:20181102T200000Z
DTEND:20181102T220000Z
X-MICROSOFT-CDO-ALLDAYEVENT:FALSE
SUMMARY:National Sumi-e Society Exhibit Opening Reception
DESCRIPTION:On October 30th\, ArtCenter Manatee welcomes the Sumi-e Society of America to their galleries.\n\nSUMI-E is the Japanese word for Black Ink Painting. East Asian Painting and writing developed together in ancient China using the same materials  brush and ink on paper. Emphasis is placed on the beauty of each individual stroke of the brush. The Chinese speak of "writing a painting" and "painting a poem." A great painting was judged on three elements: the calligraphy strokes\, the words of the poetry (often with double meanings and subtle puns) and the ability of the painting strokes to capture the spirit (Ch'i) of nature rather than a photographic likeness. The artists of Japan\, Korea and Malaysia learned from the Chinese and then developed their own versions of East Asian brush painting. \n\nThe Society was created in New York in 1963 by Professor Motoi Oi to foster and encourage an appreciation of East Asian brush painting. Until 1978\, its annual exhibitions were held in New York City. When asked why he had started the Sumi-e Society\, Mr. Oi answered\, in part\, "In the East\, paintings reflect the great joy of culture. They are a reflection of an intense personal idiom. My idea was to provide a means through which the fresh\, new spirit of American culture could be viewed in Sumi-e."\n\n\n\nThe exhibit and reception are free and open to the public. The reception will be Friday\, Nov 2\, 4-6pm.
X-ALT-DESC;FMTTYPE=text/html:<span style="font-family:calibri\,sans-serif"><span style="font-size:11pt">On October 30th\, ArtCenter Manatee welcomes the Sumi-e Society of America to their galleries.</span></span><br />\n<span style="color:black"><span style="font-family:calibri\,sans-serif"><span style="font-size:11pt">SUMI-E is the Japanese word for Black Ink Painting. East Asian Painting and writing developed together in ancient China using the same materials &mdash\;brush and ink on paper. Emphasis is placed on the beauty of each individual stroke of the brush. The Chinese speak of &ldquo\;writing a painting&rdquo\; and &ldquo\;painting a poem.&rdquo\; A great painting was judged on three elements: the calligraphy strokes\, the words of the poetry (often with double meanings and subtle puns) and the ability of the painting strokes to capture the spirit (Ch&rsquo\;i) of nature rather than a photographic likeness. The artists of Japan\, Korea and Malaysia learned from the Chinese and then developed their own versions of East Asian brush painting.&nbsp\;</span></span></span><br />\n<span style="font-family:calibri\,sans-serif"><span style="font-size:11pt">The Society was created in New York in 1963 by Professor Motoi Oi to foster and encourage an appreciation of East Asian brush painting. Until 1978\, its annual exhibitions were held in New York City. When asked why he had started the Sumi-e Society\, Mr. Oi answered\, in part\, &quot\;In the East\, paintings reflect the great joy of culture. They are a reflection of an intense personal idiom. My idea was to provide a means through which the fresh\, new spirit of American culture could be viewed in Sumi-e.&quot\;</span></span><br />\n<br />\n<span style="background-color:rgb(255\, 255\, 255)\; color:rgb(34\, 34\, 34)\; font-family:calibri\,sans-serif\; font-size:11pt">The exhibit and reception are free and open to the public. The reception will be&nbsp\;</span><span style="background-color:rgb(255\, 255\, 255)\; color:rgb(34\, 34\, 34)\; font-family:calibri\,sans-serif\; font-size:11pt">Friday\, Nov 2\, 4-6pm.</span><br />\n&nbsp\;
LOCATION:ArtCenter Manatee 209 9th Street West Bradenton FL 34205
UID:e.2475.23893
SEQUENCE:3
DTSTAMP:20260423T150734Z
URL:https://business.manateechamber.com/events/details/national-sumi-e-society-exhibit-opening-reception-23893
END:VEVENT

END:VCALENDAR
