BEGIN:VCALENDAR
VERSION:2.0
PRODID:-//ChamberMaster//Event Calendar 2.0//EN
METHOD:PUBLISH
X-PUBLISHED-TTL:P3D
REFRESH-INTERVAL:P3D
CALSCALE:GREGORIAN
BEGIN:VEVENT
DTSTART:20160219T130000Z
DTEND:20160219T140000Z
X-MICROSOFT-CDO-ALLDAYEVENT:FALSE
SUMMARY:Natural Resources Committee 2-19-2016
DESCRIPTION:
X-ALT-DESC;FMTTYPE=text/html:
LOCATION:
UID:e.2475.6696
SEQUENCE:3
DTSTAMP:20260419T194057Z
URL:https://business.manateechamber.com/events/details/natural-resources-committee-2-19-2016-02-19-2016-6696
END:VEVENT

END:VCALENDAR
