BEGIN:VCALENDAR
VERSION:2.0
PRODID:-//ChamberMaster//Event Calendar 2.0//EN
METHOD:PUBLISH
X-PUBLISHED-TTL:P3D
REFRESH-INTERVAL:P3D
CALSCALE:GREGORIAN
BEGIN:VEVENT
DTSTART:20220824T140000Z
DTEND:20220824T180000Z
X-MICROSOFT-CDO-ALLDAYEVENT:FALSE
SUMMARY:NBP REC DAYS!
DESCRIPTION:Try stand-up paddleboarding\, kayaking\, canoeing\, fishing and even sailing with a captain.\n\n$10/person\; $5/person with accompanying child 7+\; children up to 6 free
X-ALT-DESC;FMTTYPE=text/html:<span style="color: rgb(102\, 102\, 102)\; font-family: &quot\;Helvetica Neue&quot\;\, Helvetica\, -apple-system\, BlinkMacSystemFont\, Roboto\, Arial\, sans-serif\; font-size: 14px\;">Try stand-up paddleboarding\, kayaking\, canoeing\, fishing and even sailing with a captain.</span><br style="box-sizing: border-box\; color: rgb(102\, 102\, 102)\; font-family: &quot\;Helvetica Neue&quot\;\, Helvetica\, -apple-system\, BlinkMacSystemFont\, Roboto\, Arial\, sans-serif\; font-size: 14px\;" />\n<span style="color: rgb(102\, 102\, 102)\; font-family: &quot\;Helvetica Neue&quot\;\, Helvetica\, -apple-system\, BlinkMacSystemFont\, Roboto\, Arial\, sans-serif\; font-size: 14px\;">$10/person\; $5/person with accompanying child 7+\; children up to 6 free</span>
LOCATION:
UID:e.2475.40282
SEQUENCE:3
DTSTAMP:20260419T193516Z
URL:https://business.manateechamber.com/events/details/nbp-rec-days-40282
END:VEVENT

END:VCALENDAR
