BEGIN:VCALENDAR
VERSION:2.0
PRODID:-//ChamberMaster//Event Calendar 2.0//EN
METHOD:PUBLISH
X-PUBLISHED-TTL:P3D
REFRESH-INTERVAL:P3D
CALSCALE:GREGORIAN
BEGIN:VEVENT
DTSTART;VALUE=DATE:20220806
DTEND;VALUE=DATE:20220807
TRANSP:TRANSPARENT
X-MICROSOFT-CDO-ALLDAYEVENT:TRUE
SUMMARY:Off the Charts!
DESCRIPTION:Journey with us from the jukebox to the iPod as we celebrate the universal language of music! This energetic music revue features family-friendly versions of some of pop music's greatest hits\, from "Hound Dog" and "I Want to Hold Your Hand" to "Shake it Off." With more than a dozen chart-topping songs from the past eight decades\, Off the Charts! explores music's ability to make us think\, feel\, and connect across generations. Off The Charts! will perform on select Saturdays and Sundays in free public performances at community locations across Sarasota and Manatee Counties. See below for a schedule of upcoming
X-ALT-DESC;FMTTYPE=text/html:Journey with us from the jukebox to the iPod as we celebrate the universal language of music! This energetic music revue features family-friendly versions of some of pop music&rsquo\;s greatest hits\, from &ldquo\;Hound Dog&rdquo\; and &ldquo\;I Want to Hold Your Hand&rdquo\; to &ldquo\;Shake it Off.&rdquo\; With more than a dozen chart-topping songs from the past eight decades\, Off the Charts! explores music&rsquo\;s ability to make us think\, feel\, and connect across generations. Off The Charts! will perform on select Saturdays and Sundays in free public performances at community locations across Sarasota and Manatee Counties. See below for a schedule of upcoming
LOCATION:Gulf Gate Library: 7112 Curtiss Ave\, Sarasota\, FL 34231
UID:e.2475.37110
SEQUENCE:3
DTSTAMP:20260419T195339Z
URL:https://business.manateechamber.com/events/details/off-the-charts-08-06-2022-37110
END:VEVENT

END:VCALENDAR
