BEGIN:VCALENDAR
VERSION:2.0
PRODID:-//ChamberMaster//Event Calendar 2.0//EN
METHOD:PUBLISH
X-PUBLISHED-TTL:P3D
REFRESH-INTERVAL:P3D
CALSCALE:GREGORIAN
BEGIN:VEVENT
DTSTART:20220730T233000Z
DTEND:20220731T003000Z
X-MICROSOFT-CDO-ALLDAYEVENT:FALSE
SUMMARY:Off the Charts!
DESCRIPTION:Journey with us from the jukebox to the iPod as we celebrate the universal language of music! This energetic music revue features family-friendly versions of some of pop music's greatest hits\, from "Hound Dog" and "I Want to Hold Your Hand" to "Shake it Off." With more than a dozen chart-topping songs from the past eight decades\, Off the Charts! explores music's ability to make us think\, feel\, and connect across generations.\n\nOff The Charts! will perform on select Saturdays and Sundays in free public performances at community locations across Sarasota and Manatee Counties. See below for a schedule of upcoming public performances.
X-ALT-DESC;FMTTYPE=text/html:<p style="box-sizing: inherit\; margin: 0px 0px 1em\; color: rgb(77\, 77\, 77)\; font-family: &quot\;Helvetica Neue&quot\;\, Helvetica\, Arial\, sans-serif\; font-size: 19px\;">Journey with us from the jukebox to the iPod as we celebrate the universal language of music! This energetic music revue features family-friendly versions of some of pop music&rsquo\;s greatest hits\, from &ldquo\;Hound Dog&rdquo\; and &ldquo\;I Want to Hold Your Hand&rdquo\; to &ldquo\;Shake it Off.&rdquo\; With more than a dozen chart-topping songs from the past eight decades\,<span style="box-sizing: inherit\;">&nbsp\;</span><em style="box-sizing: inherit\;">Off the Charts!</em><span style="box-sizing: inherit\;">&nbsp\;</span>explores music&rsquo\;s ability to make us think\, feel\, and connect across generations.</p>\n\n<p style="box-sizing: inherit\; margin: 0px 0px 1em\; color: rgb(77\, 77\, 77)\; font-family: &quot\;Helvetica Neue&quot\;\, Helvetica\, Arial\, sans-serif\; font-size: 19px\;"><em style="box-sizing: inherit\;">Off The Charts!<span style="box-sizing: inherit\;">&nbsp\;</span></em>will perform on select Saturdays and Sundays in free public performances at community locations across Sarasota and Manatee Counties. See below for a schedule of upcoming public performances.</p>\n
LOCATION:Bradenton Riverwalk Mosaic Amphitheatre\, 452 3rd Avenue West\, Bradenton\, FL 34205\,
UID:e.2475.37109
SEQUENCE:3
DTSTAMP:20260419T213212Z
URL:https://business.manateechamber.com/events/details/off-the-charts-37109
END:VEVENT

END:VCALENDAR
